{"text_format":"1","workbook":"xlsx","n_sheets":10,"sheets":["6-step-design","stock-flow-diagram","model","inputs","simulation","synthetic-data","forecast-scenarios","adjust-1","frozen-price","graphs"],"not_rendered":{"charts":1,"images":4,"macros":1,"external_links":1,"defined_names":35,"comments":0,"pivot_tables":0},"unopened":[],"bounds":{"document_bytes":16777216,"sheet_cells":100000,"rows_first":2000,"rows_last":500,"rows_between":2000,"halvings":0,"cell_chars":16384,"cell_head_chars":4096},"cells_cut":0,"cells_raw":0,"read":"whole","date_system":"1900"}

{"sheet":"6-step-design","index":0,"n_rows":0,"n_cols":0,"rows_kept":0,"cut":false,"hidden":false,"merged":[]}

{"sheet":"stock-flow-diagram","index":1,"n_rows":0,"n_cols":0,"rows_kept":0,"cut":false,"hidden":false,"merged":[]}

{"sheet":"model","index":2,"n_rows":63,"n_cols":5,"rows_kept":63,"cut":false,"hidden":false,"merged":[]}
[]
[]
[null,"(01)    Adjustment time for price=",null,{"$f":"LEFT(RIGHT(B3, LEN(B3)-8),LEN(RIGHT(B3, LEN(B3)-8))-1)","v":"Adjustment time for price"},{"$f":"B4","v":1}]
[null,1]
[null,"    "]
[null,"(02)    Change in Price=(Indicated price - Price) / Adjustment time for price",null,{"$f":"LEFT(RIGHT(B6, LEN(B6)-8),LEN(RIGHT(B6, LEN(B6)-8)))","v":"Change in Price=(Indicated price - Price) / Adjustment time for price"}]
[null,"    Units: **undefined**"]
[null,"    "]
[null,"(03)    Demand=Reference demand * (Price / Reference price)^Demand elasticity",null,{"$f":"LEFT(RIGHT(B9, LEN(B9)-8),LEN(RIGHT(B9, LEN(B9)-8)))","v":"Demand=Reference demand * (Price / Reference price)^Demand elasticity"}]
[null,"    Units: units/Year [0,1000,1]"]
[null,"    "]
[null,"(04)    Demand elasticity=",null,{"$f":"LEFT(RIGHT(B12, LEN(B12)-8),LEN(RIGHT(B12, LEN(B12)-8))-1)","v":"Demand elasticity"},{"$f":"B13","v":-0.25}]
[null,-0.25]
[null,"    Units: **undefined** [-1.5,-0.01]"]
[null,"    "]
[null,"(05)    Demand Supply balance=Demand / Supply",null,{"$f":"LEFT(RIGHT(B16, LEN(B16)-8),LEN(RIGHT(B16, LEN(B16)-8)))","v":"Demand Supply balance=Demand / Supply"}]
[null,"    Units: **undefined**"]
[null,"    "]
[null,"(06)    FINAL TIME="]
[null,100]
[null,"    The final time for the simulation."]
[]
[null,"(07)    Indicated price=Price * Demand Supply balance^Sensitivity",null,{"$f":"LEFT(RIGHT(B23, LEN(B23)-8),LEN(RIGHT(B23, LEN(B23)-8)))","v":"Indicated price=Price * Demand Supply balance^Sensitivity"}]
[null,"    Units: rupess/unit"]
[null,"    "]
[null,"(08)    Initial price=",null,{"$f":"LEFT(RIGHT(B26, LEN(B26)-8),LEN(RIGHT(B26, LEN(B26)-8))-1)","v":"Initial price"},{"$f":"B27","v":100}]
[null,100]
[null,"    "]
[null,"(09)    INITIAL TIME=",null,{"$f":"LEFT(RIGHT(B29, LEN(B29)-8),LEN(RIGHT(B29, LEN(B29)-8))-1)","v":"INITIAL TIME"},{"$f":"B30","v":0}]
[null,0]
[null,"    The initial time for the simulation."]
[]
[null,"(10)    Price= INTEG (Change in Price,",null,{"$f":"LEFT(RIGHT(B33, LEN(B33)-8),LEN(RIGHT(B33, LEN(B33)-8)))&B34","v":"Price= INTEG (Change in Price,            initial price)"}]
[null,"            initial price)"]
[null,"    Units: **undefined**"]
[null,"    "]
[null,"(11)    Reference demand=",null,{"$f":"LEFT(RIGHT(B37, LEN(B37)-8),LEN(RIGHT(B37, LEN(B37)-8))-1)","v":"Reference demand"},{"$f":"B38","v":300}]
[null,300]
[null,"    "]
[null,"(12)    Reference price=",null,{"$f":"LEFT(RIGHT(B40, LEN(B40)-8),LEN(RIGHT(B40, LEN(B40)-8))-1)","v":"Reference price"},{"$f":"B41","v":100}]
[null,100]
[null,"    "]
[null,"(13)    Reference supply=",null,{"$f":"LEFT(RIGHT(B43, LEN(B43)-8),LEN(RIGHT(B43, LEN(B43)-8))-1)","v":"Reference supply"},{"$f":"B44","v":100}]
[null,100]
[null,"    "]
[null,"(14)    SAVEPER  = "]
[null,"       TIME STEP "]
[null,"    Units: Year [0,?]"]
[null,"    The frequency with which output is stored."]
[]
[null,"(15)    Sensitivity=",null,{"$f":"LEFT(RIGHT(B51, LEN(B51)-8),LEN(RIGHT(B51, LEN(B51)-8))-1)","v":"Sensitivity"},{"$f":"B52","v":1}]
[null,1]
[null,"    "]
[null,"(16)    Supply=Reference supply * (Price / Reference price)^Supply elasticity",null,{"$f":"LEFT(RIGHT(B54, LEN(B54)-8),LEN(RIGHT(B54, LEN(B54)-8)))","v":"Supply=Reference supply * (Price / Reference price)^Supply elasticity"}]
[null,"    Units: units/Year [0,1000,1]"]
[null,"    "]
[null,"(17)    Supply elasticity=",null,{"$f":"LEFT(RIGHT(B57, LEN(B57)-8),LEN(RIGHT(B57, LEN(B57)-8))-1)","v":"Supply elasticity"},{"$f":"B58","v":0.5}]
[null,0.5]
[null,"    Units: **undefined** [0.01,1.5]"]
[null,"    "]
[null,"(18)    TIME STEP= 1",null,{"$f":"LEFT(RIGHT(B61, LEN(B61)-8),LEN(RIGHT(B61, LEN(B61)-8))-1)","v":"TIME STEP= "},{"$f":"B62","v":1}]
[null,1]
[null,"    The time step for the simulation."]

{"sheet":"inputs","index":3,"n_rows":21,"n_cols":8,"rows_kept":21,"cut":false,"hidden":false,"merged":[]}
[]
[null,"name","value"]
[null,{"$f":"model!D3","v":"Adjustment time for price"},2,null,"mean_demand_elasticity","sd_demand_elasticity","mu_mean","sigma_mean"]
[">>>>>>>",{"$f":"model!D12","v":"Demand elasticity"},{"$f":"_xlfn.NORM.INV( RAND(), E4, F4 )","v":-0.24087213936268187},"<<<<<<<",{"$f":"_xlfn.NORM.INV( RAND(), G4, H4 )","v":-0.25696370619998576},0.05,-0.25,0.01]
[null,{"$f":"model!D26:E26","v":"Initial price"},100]
[null,{"$f":"model!D37:E37","v":"Reference demand"},300]
[null,{"$f":"model!D40:E40","v":"Reference price"},100]
[null,{"$f":"model!D43:E43","v":"Reference supply"},100]
[null,{"$f":"model!D51:E51","v":"Sensitivity"},1,null,"mean_supply_elasticity","sd_supply_elasticity","mu_mean","sigma_mean"]
[">>>>>>>",{"$f":"model!D57","v":"Supply elasticity"},{"$f":"_xlfn.NORM.INV( RAND(), E10, F10 )","v":0.49739870688998272},"<<<<<<<",{"$f":"_xlfn.NORM.INV( RAND(), G10, H10 )","v":0.49112391524937604},0.05,0.5,0.01]
[]
[null,"t0",0]
[null,"T",100]
[null,"step",1]
[]
[null,"Initial Bid",75]
[null,"Bid reference",75]
[null,"Adjustment time for Bid",1]
[null,"Initial Ask",125]
[null,"Ask reference",125]
[null,"Adjustment time for Ask",1]

{"sheet":"simulation","index":4,"n_rows":102,"n_cols":13,"rows_kept":102,"cut":false,"hidden":false,"merged":[]}
["time","Change in Price","Price","Demand","Supply","Demand Supply balance","Indicated price",null,"Bid","Change in Bid","Ask","Change in Ask","Bid Ask balance"]
[{"$f":"t0","v":0},0,{"$f":"Initial_price","v":100},{"$f":"Reference_demand","v":300},{"$f":"Reference_supply","v":100},{"$f":"D2 / E2","v":3},{"$f":"C2 * F2^Sensitivity","v":300},null,{"$f":"Initial_Bid","v":75},0,{"$f":"Initial_Ask","v":125},0,{"$f":"I2 / K2","v":0.6}]
[{"$f":"A2 + step","v":1},{"$f":"(G3 - C2) / Adjustment_time_for_price","v":100},{"$f":"C2 + B3","v":200},{"$f":"Reference_demand * (C3 / Reference_price)^Demand_elasticity","v":253.87007753357784},{"$f":"Reference_supply * (C3 / Reference_price)^Supply_elasticity","v":141.16659211078837},{"$f":"D3 / E3","v":1.798372219216988},{"$f":"C2 * F2 ^ Sensitivity","v":300}]
[{"$f":"A3 + step","v":2},{"$f":"(G4 - C3) / Adjustment_time_for_price","v":79.837221921698784},{"$f":"C3 + B4","v":279.83722192169876},{"$f":"Reference_demand * (C4 / Reference_price)^Demand_elasticity","v":234.13922445088815},{"$f":"Reference_supply * (C4 / Reference_price)^Supply_elasticity","v":166.83616879557653},{"$f":"D4 / E4","v":1.403408062779107},{"$f":"C3 * F3 ^ Sensitivity","v":359.67444384339757}]
[{"$f":"A4 + step","v":3},{"$f":"(G5 - C4) / Adjustment_time_for_price","v":56.444295794459777},336.28151771615853,{"$f":"Reference_demand * (C5 / Reference_price)^Demand_elasticity","v":224.00266053354329},{"$f":"Reference_supply * (C5 / Reference_price)^Supply_elasticity","v":182.80218839250904},1.2253828168214784,{"$f":"C4 * F4 ^ Sensitivity","v":392.72581351061831}]
[{"$f":"A5 + step","v":4},{"$f":"(G6 - C5) / Adjustment_time_for_price","v":37.896037853934843},374.17755557009338,{"$f":"Reference_demand * (C6 / Reference_price)^Demand_elasticity","v":218.3146072822716},{"$f":"Reference_supply * (C6 / Reference_price)^Supply_elasticity","v":192.77385114803263},1.1324907708287988,{"$f":"C5 * F5 ^ Sensitivity","v":412.07359342402822}]
[{"$f":"A6 + step","v":5},{"$f":"(G7 - C6) / Adjustment_time_for_price","v":24.787536382158692},398.96509195225207,{"$f":"Reference_demand * (C7 / Reference_price)^Demand_elasticity","v":214.96748733264849},{"$f":"Reference_supply * (C7 / Reference_price)^Supply_elasticity","v":199.02344584558546},1.0801113729054486,{"$f":"C6 * F6 ^ Sensitivity","v":423.75262833441076}]
[{"$f":"A7 + step","v":6},{"$f":"(G8 - C7) / Adjustment_time_for_price","v":15.980820628821732},414.9459125810738,{"$f":"Reference_demand * (C8 / Reference_price)^Demand_elasticity","v":212.94346774333525},{"$f":"Reference_supply * (C8 / Reference_price)^Supply_elasticity","v":202.94958540594172},1.0492431769072288,{"$f":"C7 * F7 ^ Sensitivity","v":430.92673320989553}]
[{"$f":"A8 + step","v":7},{"$f":"(G9 - C8) / Adjustment_time_for_price","v":10.216627490080668},425.16254007115447,{"$f":"Reference_demand * (C9 / Reference_price)^Demand_elasticity","v":211.6995178200651},{"$f":"Reference_supply * (C9 / Reference_price)^Supply_elasticity","v":205.41986559915296},1.0305698390104392,{"$f":"C8 * F8 ^ Sensitivity","v":435.37916756123514}]
[{"$f":"A9 + step","v":8},{"$f":"(G10 - C9) / Adjustment_time_for_price","v":6.4985752016222875},431.66111527277678,{"$f":"Reference_demand * (C10 / Reference_price)^Demand_elasticity","v":210.92740941593831},{"$f":"Reference_supply * (C10 / Reference_price)^Supply_elasticity","v":206.97565770089258},1.0190928332294831,{"$f":"C9 * F9 ^ Sensitivity","v":438.15969047439904}]
[{"$f":"A10 + step","v":9},{"$f":"(G11 - C10) / Adjustment_time_for_price","v":4.1208168427778844},435.7819321155547,{"$f":"Reference_demand * (C11 / Reference_price)^Demand_elasticity","v":210.4452414725047},{"$f":"Reference_supply * (C11 / Reference_price)^Supply_elasticity","v":207.95610925112996},1.0119695075578128,{"$f":"C10 * F10 ^ Sensitivity","v":439.90274895833255}]
[{"$f":"A11 + step","v":10},{"$f":"(G12 - C11) / Adjustment_time_for_price","v":2.6080475650076949},438.38997968056242,{"$f":"Reference_demand * (C12 / Reference_price)^Demand_elasticity","v":210.14299338366317},{"$f":"Reference_supply * (C12 / Reference_price)^Supply_elasticity","v":208.57422657811938},1.0075213837839943,{"$f":"C11 * F11 ^ Sensitivity","v":440.99802724557009}]
[{"$f":"A12 + step","v":11},{"$f":"(G13 - C12) / Adjustment_time_for_price","v":1.6486496421174763},{"$f":"C12 + B13","v":440.03862932267987},{"$f":"Reference_demand * (C13 / Reference_price)^Demand_elasticity","v":209.95307912496372},{"$f":"Reference_supply * (C13 / Reference_price)^Supply_elasticity","v":208.96400984319655},{"$f":"D13 / E13","v":1.0047332039737817},{"$f":"C12 * F12 ^ Sensitivity","v":441.68727896479737}]
[{"$f":"A13 + step","v":12},{"$f":"(G14 - C13) / Adjustment_time_for_price","v":1.0413962944637944},441.08002561714363,{"$f":"Reference_demand * (C14 / Reference_price)^Demand_elasticity","v":209.83357111472804},{"$f":"Reference_supply * (C14 / Reference_price)^Supply_elasticity","v":209.20984461536233},1.0029813439253419,{"$f":"C13 * F13 ^ Sensitivity","v":442.12142191160746}]
[{"$f":"A14 + step","v":13},{"$f":"(G15 - C14) / Adjustment_time_for_price","v":0.65750562748166885},441.7375312446253,{"$f":"Reference_demand * (C15 / Reference_price)^Demand_elasticity","v":209.75829759536037},{"$f":"Reference_supply * (C15 / Reference_price)^Supply_elasticity","v":209.36490692667422},1.0018789713828398,{"$f":"C14 * F14 ^ Sensitivity","v":442.39503687210697}]
[{"$f":"A15 + step","v":14},{"$f":"(G16 - C15) / Adjustment_time_for_price","v":0.41500608996747701},442.15253733459281,{"$f":"Reference_demand * (C16 / Reference_price)^Demand_elasticity","v":209.71085779560588},{"$f":"Reference_supply * (C16 / Reference_price)^Supply_elasticity","v":209.46271984405925},1.0011846401676221,{"$f":"C15 * F15 ^ Sensitivity","v":442.56754342456026}]
[{"$f":"A16 + step","v":15},{"$f":"(G17 - C16) / Adjustment_time_for_price","v":0.26189582797130129},{"$f":"C16 + B17","v":442.41443316256414},{"$f":"Reference_demand * (C17 / Reference_price)^Demand_elasticity","v":209.6809486239959},{"$f":"Reference_supply * (C17 / Reference_price)^Supply_elasticity","v":209.52442240907857},{"$f":"D17 / E17","v":1.0007470547495974},{"$f":"C16 * F16 ^ Sensitivity","v":442.67632899053541}]
[{"$f":"A17 + step","v":16},{"$f":"(G18 - C17) / Adjustment_time_for_price","v":0.16525390179225496},442.57968706435639,{"$f":"Reference_demand * (C18 / Reference_price)^Demand_elasticity","v":209.66208750969366},{"$f":"Reference_supply * (C18 / Reference_price)^Supply_elasticity","v":209.56334672413143},1.0004711739295336,{"$f":"C17 * F17 ^ Sensitivity","v":442.74494096614865}]
[{"$f":"A18 + step","v":17},{"$f":"(G19 - C18) / Adjustment_time_for_price","v":0.10426600514293227},442.68395306949935,{"$f":"Reference_demand * (C19 / Reference_price)^Demand_elasticity","v":209.65019169310531},{"$f":"Reference_supply * (C19 / Reference_price)^Supply_elasticity","v":209.58790203999271},1.0002972006137105,{"$f":"C18 * F18 ^ Sensitivity","v":442.78821907464226}]
[{"$f":"A19 + step","v":18},{"$f":"(G20 - C19) / Adjustment_time_for_price","v":6.5782971266031609E-2},442.74973604076536,{"$f":"Reference_demand * (C20 / Reference_price)^Demand_elasticity","v":209.64268823431041},{"$f":"Reference_supply * (C20 / Reference_price)^Supply_elasticity","v":209.60339285799049},1.0001874749057451,{"$f":"C19 * F19 ^ Sensitivity","v":442.81551901203142}]
[{"$f":"A20 + step","v":19},{"$f":"(G21 - C20) / Adjustment_time_for_price","v":4.1502232516450022E-2},442.79123827328181,{"$f":"Reference_demand * (C21 / Reference_price)^Demand_elasticity","v":209.63795504165989},{"$f":"Reference_supply * (C21 / Reference_price)^Supply_elasticity","v":209.61316536247611},1.0001182639417754,{"$f":"C20 * F20 ^ Sensitivity","v":442.83274050579826}]
[{"$f":"A21 + step","v":20},{"$f":"(G22 - C21) / Adjustment_time_for_price","v":2.6183118610902056E-2},442.81742139189271,{"$f":"Reference_demand * (C22 / Reference_price)^Demand_elasticity","v":209.63496922658643},{"$f":"Reference_supply * (C22 / Reference_price)^Supply_elasticity","v":209.61933044805002},1.0000746056124832,{"$f":"C21 * F21 ^ Sensitivity","v":442.84360451050361}]
[{"$f":"A22 + step","v":21}]
[{"$f":"A23 + step","v":22}]
[{"$f":"A24 + step","v":23}]
[{"$f":"A25 + step","v":24}]
[{"$f":"A26 + step","v":25}]
[{"$f":"A27 + step","v":26}]
[{"$f":"A28 + step","v":27}]
[{"$f":"A29 + step","v":28}]
[{"$f":"A30 + step","v":29}]
[{"$f":"A31 + step","v":30}]
[{"$f":"A32 + step","v":31}]
[{"$f":"A33 + step","v":32}]
[{"$f":"A34 + step","v":33}]
[{"$f":"A35 + step","v":34}]
[{"$f":"A36 + step","v":35}]
[{"$f":"A37 + step","v":36}]
[{"$f":"A38 + step","v":37}]
[{"$f":"A39 + step","v":38}]
[{"$f":"A40 + step","v":39}]
[{"$f":"A41 + step","v":40}]
[{"$f":"A42 + step","v":41}]
[{"$f":"A43 + step","v":42}]
[{"$f":"A44 + step","v":43}]
[{"$f":"A45 + step","v":44}]
[{"$f":"A46 + step","v":45}]
[{"$f":"A47 + step","v":46}]
[{"$f":"A48 + step","v":47}]
[{"$f":"A49 + step","v":48}]
[{"$f":"A50 + step","v":49}]
[{"$f":"A51 + step","v":50}]
[{"$f":"A52 + step","v":51}]
[{"$f":"A53 + step","v":52}]
[{"$f":"A54 + step","v":53}]
[{"$f":"A55 + step","v":54}]
[{"$f":"A56 + step","v":55}]
[{"$f":"A57 + step","v":56}]
[{"$f":"A58 + step","v":57}]
[{"$f":"A59 + step","v":58}]
[{"$f":"A60 + step","v":59}]
[{"$f":"A61 + step","v":60}]
[{"$f":"A62 + step","v":61}]
[{"$f":"A63 + step","v":62}]
[{"$f":"A64 + step","v":63}]
[{"$f":"A65 + step","v":64}]
[{"$f":"A66 + step","v":65}]
[{"$f":"A67 + step","v":66}]
[{"$f":"A68 + step","v":67}]
[{"$f":"A69 + step","v":68}]
[{"$f":"A70 + step","v":69}]
[{"$f":"A71 + step","v":70}]
[{"$f":"A72 + step","v":71}]
[{"$f":"A73 + step","v":72}]
[{"$f":"A74 + step","v":73}]
[{"$f":"A75 + step","v":74}]
[{"$f":"A76 + step","v":75}]
[{"$f":"A77 + step","v":76}]
[{"$f":"A78 + step","v":77}]
[{"$f":"A79 + step","v":78}]
[{"$f":"A80 + step","v":79}]
[{"$f":"A81 + step","v":80}]
[{"$f":"A82 + step","v":81}]
[{"$f":"A83 + step","v":82}]
[{"$f":"A84 + step","v":83}]
[{"$f":"A85 + step","v":84}]
[{"$f":"A86 + step","v":85}]
[{"$f":"A87 + step","v":86}]
[{"$f":"A88 + step","v":87}]
[{"$f":"A89 + step","v":88}]
[{"$f":"A90 + step","v":89}]
[{"$f":"A91 + step","v":90}]
[{"$f":"A92 + step","v":91}]
[{"$f":"A93 + step","v":92}]
[{"$f":"A94 + step","v":93}]
[{"$f":"A95 + step","v":94}]
[{"$f":"A96 + step","v":95}]
[{"$f":"A97 + step","v":96}]
[{"$f":"A98 + step","v":97}]
[{"$f":"A99 + step","v":98}]
[{"$f":"A100 + step","v":99}]
[{"$f":"A101 + step","v":100}]

{"sheet":"synthetic-data","index":5,"n_rows":108,"n_cols":23,"rows_kept":108,"cut":false,"hidden":false,"merged":[]}
[null,null,null,null,null,null,null,null,null,null,"median",{"$f":"MEDIAN( L9:L108)","v":200},{"$f":"MEDIAN( M9:M108)","v":278.71376305040974},333.70398706066953,370.24663921970341,393.92962823488733,409.06845873080181,418.66874088289586,424.72782642108007,428.54087364945474,430.93619471285206,432.43925499107706,433.38177677328537]
[null,null,null,null,null,null,null,null,null,null,"mean abs deviation",{"$f":"AVEDEV( L9:L108 )","v":0},{"$f":"AVEDEV( M9:M108 )","v":7.8215945310615629},18.009814146823942,27.669459546936459,35.727586498457192,42.027347891350331,46.786118373248819,50.284746447152102,52.827013186508182,54.651818696024648,55.945784824169088,56.858002941177062]
[null,null,null,null,null,null,null,null,null,null,"sampled",{"$f":"INDEX( L9:L108, MATCH( RANDBETWEEN( 1, 100 ), $G$9:$G$108, 0), )","v":200},{"$f":"INDEX( M9:M108, MATCH( RANDBETWEEN( 1, 100 ), $G$9:$G$108, 0), )","v":279.9107635932063},{"$f":"INDEX( N9:N108, MATCH( RANDBETWEEN( 1, 100 ), $G$9:$G$108, 0), )","v":352.26189671790644},{"$f":"INDEX( O9:O108, MATCH( RANDBETWEEN( 1, 100 ), $G$9:$G$108, 0), )","v":478.82512865221867},{"$f":"INDEX( P9:P108, MATCH( RANDBETWEEN( 1, 100 ), $G$9:$G$108, 0), )","v":336.70271277458164},{"$f":"INDEX( Q9:Q108, MATCH( RANDBETWEEN( 1, 100 ), $G$9:$G$108, 0), )","v":453.46074439789072},{"$f":"INDEX( R9:R108, MATCH( RANDBETWEEN( 1, 100 ), $G$9:$G$108, 0), )","v":553.48214169305675},{"$f":"INDEX( S9:S108, MATCH( RANDBETWEEN( 1, 100 ), $G$9:$G$108, 0), )","v":502.58157831164078},{"$f":"INDEX( T9:T108, MATCH( RANDBETWEEN( 1, 100 ), $G$9:$G$108, 0), )","v":521.74466764065187},{"$f":"INDEX( U9:U108, MATCH( RANDBETWEEN( 1, 100 ), $G$9:$G$108, 0), )","v":516.46424317888034},{"$f":"INDEX( V9:V108, MATCH( RANDBETWEEN( 1, 100 ), $G$9:$G$108, 0), )","v":433.5094606914131},{"$f":"INDEX( W9:W108, MATCH( RANDBETWEEN( 1, 100 ), $G$9:$G$108, 0), )","v":585.95212739159172}]
[null,null,null,null,null,null,null,null,null,null,null,1,{"$f":"L4+1","v":2},{"$f":"M4+1","v":3},4,5,6,7,8,9,10,11,12]
[null,null,null,null,null,null,null,{"$f":"inputs!E3","v":"mean_demand_elasticity"},{"$f":"inputs!B4","v":"Demand elasticity"},{"$f":"inputs!E9","v":"mean_supply_elasticity"},{"$f":"inputs!B10","v":"Supply elasticity"},{"$f":"simulation!$C1&\"_\"&L4","v":"Price_1"},{"$f":"simulation!$C1&\"_\"&M4","v":"Price_2"},{"$f":"simulation!$C1&\"_\"&N4","v":"Price_3"},{"$f":"simulation!$C1&\"_\"&O4","v":"Price_4"},{"$f":"simulation!$C1&\"_\"&P4","v":"Price_5"},{"$f":"simulation!$C1&\"_\"&Q4","v":"Price_6"},{"$f":"simulation!$C1&\"_\"&R4","v":"Price_7"},{"$f":"simulation!$C1&\"_\"&S4","v":"Price_8"},{"$f":"simulation!$C1&\"_\"&T4","v":"Price_9"},{"$f":"simulation!$C1&\"_\"&U4","v":"Price_10"},{"$f":"simulation!$C1&\"_\"&V4","v":"Price_11"},{"$f":"simulation!$C1&\"_\"&W4","v":"Price_12"}]
[null,null,null,null,null,null,null,{"$f":"inputs!E4","v":-0.25696370619998576},{"$f":"Demand_elasticity","v":-0.24087213936268187},{"$f":"inputs!E10","v":0.49112391524937604},{"$f":"Supply_elasticity","v":0.49739870688998272},{"$f":"TRANSPOSE( simulation!C3:C14 )","v":200},279.83722192169876,336.28151771615853,374.17755557009338,398.96509195225207,414.9459125810738,425.16254007115447,431.66111527277678,435.7819321155547,438.38997968056242,440.03862932267987,441.08002561714363]
[]
["month",{"$f":"simulation!C1","v":"Price"},{"$f":"simulation!D1","v":"Demand"},{"$f":"simulation!E1","v":"Supply"},"Price Scenarios",null,"run",{"$f":"H5","v":"mean_demand_elasticity"},{"$f":"I5","v":"Demand elasticity"},"mean_supply_elasticity","Supply elasticity","Price_1","Price_2","Price_3","Price_4","Price_5","Price_6","Price_7","Price_8","Price_9","Price_10","Price_11","Price_12"]
[1,{"$f":"simulation!C3","v":200},{"$f":"simulation!D3","v":253.87007753357784},{"$f":"simulation!E3","v":141.16659211078837},{"$f":"TRANSPOSE( L3:W3  )","v":200},null,1,-0.23482785620334698,-0.1818136913794039,0.48766732098325782,0.50943422996340149,200,285.79537373602807,350.34090842095793,396.07463806207932,427.47046537511926,448.63621514503848,462.75035254354464,472.09865659554225,478.26390520313612,482.31877895116941,484.98094907122902,486.72675597972898]
[{"$f":"A9+1","v":2},{"$f":"simulation!C4","v":279.83722192169876},{"$f":"simulation!D4","v":234.13922445088815},{"$f":"simulation!E4","v":166.83616879557653},279.9107635932063,null,{"$f":"G9+1","v":2},-0.25578840084941362,-0.26465767306947735,0.52824275182276137,0.48395293871328837,200,278.55293997873605,333.33661218889682,369.68815530058248,393.2159466137764,408.23698950751356,417.75139756258625,423.74948326808465,427.51996986062198,429.88597904567416,431.36904929074103,432.29804280433757]
[{"$f":"A10+1","v":3},{"$f":"simulation!C5","v":336.28151771615853},{"$f":"simulation!D5","v":224.00266053354329},{"$f":"simulation!E5","v":182.80218839250904},352.26189671790644,null,{"$f":"G10+1","v":3},-0.24205824995504693,-0.26937919238697167,0.51011007371503925,0.44501158670544261,200,282.83873234665015,343.28153144033604,384.983552437718,412.9361112004641,431.36993460126223,443.4097186573328,451.22710821126435,456.28431986507883,459.5483698624447,461.65198192435372,463.00644931446197]
[4,{"$f":"simulation!C6","v":374.17755557009338},{"$f":"simulation!D6","v":218.3146072822716},{"$f":"simulation!E6","v":192.77385114803263},478.82512865221867,null,4,-0.25831919973170692,-0.2987693151090216,0.50741219793385972,0.50056743429428152,200,272.38398517346423,319.59911939585425,349.1852031381934,367.37288194483801,378.44093399460718,385.13842146453464,389.17804989271696,391.60994499348772,393.07232321491949,393.95111079301944,394.4789899809449]
[5,{"$f":"simulation!C7","v":398.96509195225207},{"$f":"simulation!D7","v":214.96748733264849},{"$f":"simulation!E7","v":199.02344584558546},336.70271277458164,null,5,-0.23922051986652818,-0.27701631817238165,0.50144831054769445,0.50675248373791626,200,274.25423254218782,323.69362323886196,355.22085407079396,374.91002456509602,387.06956196267754,394.53178464863379,399.09452751738661,401.87834087878861,403.57458923373679,404.60734729527144,405.2358426734865]
[6,{"$f":"simulation!C8","v":414.9459125810738},{"$f":"simulation!D8","v":212.94346774333525},{"$f":"simulation!E8","v":202.94958540594172},453.46074439789072,null,6,-0.2514601270866802,-0.23959801860509086,0.49713737100169303,0.45598365277253944,200,285.23809549790155,348.99770092200498,393.94926084274204,424.66999897411574,445.29516793953223,458.99540009779105,468.03584949351637,473.97662908723851,477.87015104700072,480.41756517808517,482.08242157059544]
[7,{"$f":"simulation!C9","v":425.16254007115447},{"$f":"simulation!D9","v":211.6995178200651},{"$f":"simulation!E9","v":205.41986559915296},553.48214169305675,null,7,-0.26133980057591721,-0.24501742843033825,0.49612282710763345,0.4902241989743723,200,280.21522185145193,337.15398128845817,375.51402400239493,400.68284073946188,416.95605927381052,427.38790562946457,434.04074153291936,438.27012444501037,440.95357615388485,442.65407870002559,443.73085647685559]
[8,{"$f":"simulation!C10","v":431.66111527277678},{"$f":"simulation!D10","v":210.92740941593831},{"$f":"simulation!E10","v":206.97565770089258},502.58157831164078,null,8,-0.25772084557654668,-0.18893352077272885,0.48626158671867475,0.47245260142563084,200,289.68115838608435,359.87296110908346,411.36192272525949,447.82627020766074,473.12343867224763,490.4525284381416,502.22854629500512,510.18968549317134,515.55363698187921,519.15965773639141,521.58030663985096]
[9,{"$f":"simulation!C11","v":435.7819321155547},{"$f":"simulation!D11","v":210.4452414725047},{"$f":"simulation!E11","v":207.95610925112996},521.74466764065187,null,9,-0.24518005373697757,-0.33468603110468181,0.48854470485700613,0.51187996105608446,200,266.83205438470435,307.7936141859534,332.13751040314577,346.40339544959454,354.70373719533939,359.51453181665954,362.29685187337356,363.90406031390648,364.83182576475645,365.36716971640431,365.67600664523906]
[10,{"$f":"simulation!C12","v":438.38997968056242},{"$f":"simulation!D12","v":210.14299338366317},{"$f":"simulation!E12","v":208.57422657811938},516.46424317888034,null,10,-0.2596850453078029,-0.26924366503007607,0.5223549449384457,0.53201457184109358,200,272.15454431798599,319.10094912315935,348.4551980124445,366.46527133417169,377.40532110899312,384.01383959861346,387.99307247540139,390.38463842407378,391.82041124427212,392.68180982706036,393.19840779772898]
[11,{"$f":"simulation!C13","v":440.03862932267987},{"$f":"simulation!D13","v":209.95307912496372},{"$f":"simulation!E13","v":208.96400984319655},433.5094606914131,null,11,-0.2378247723639228,-0.20278306521900233,0.50399997312164568,0.53675314079205128,200,279.67955934387646,335.91838380774766,373.62216221865913,398.25209543408312,414.11230883737596,424.24033618739463,430.67552254262046,434.75180596800749,437.32897611488431,438.95642825404241,439.9833847692592]
[12,{"$f":"simulation!C14","v":441.08002561714363},{"$f":"simulation!D14","v":209.83357111472804},{"$f":"simulation!E14","v":209.20984461536233},585.95212739159172,null,12,-0.25187675593907649,-0.19405167067609347,0.48367714705144155,0.44618777993475234,200,292.4819348871456,366.92723436715642,422.90810909125241,463.44786208361802,492.15458569491091,512.20009510528757,526.07262886620902,535.61698683853297,542.15807208313981,546.62928410550467,549.6802902185724]
[null,null,null,null,null,null,13,-0.26216990336444412,-0.19396655025274123,0.50701653181523054,0.52696753963275422,200,282.01134911047967,341.33536213130822,381.96013116484903,409.0082565525986,426.73522387346827,438.24563371736093,445.67735423541671,450.45886335528553,453.52849237986214,455.49639646014623,456.75688676051527]
[null,null,null,null,null,null,14,-0.26796059364788344,-0.23232097109640842,0.50278251694028897,0.47739452567875573,200,283.43221139781645,344.68535798596884,387.17359479726292,415.79044408241373,434.74634684536761,447.17911984110219,455.28418713759413,460.5479917688674,463.95837465619718,466.16457318821961,467.59038640997142]
[null,null,null,null,null,null,15,-0.23542429143828275,-0.27759582045727288,0.50192389985215025,0.52687046195028109,200,271.77215856142755,318.2726970907562,347.2435801426534,364.9607808649335,375.6902781785343,382.15278826401538,386.03312356163372,388.35879222032429,389.75118389163958,390.58428832552954,391.08256851092096]
[null,null,null,null,null,null,16,-0.26162711295721086,-0.27886424876987237,0.49925854081068993,0.44247277127485196,200,281.9605222763314,341.21622102931963,381.77552134776676,408.76889723954378,426.453223725111,437.93180054537567,445.34039861478027,450.10542542666224,453.16346364738035,455.12329926073653,456.3782172405613]
[null,null,null,null,null,null,17,-0.24591505411837075,-9.9252652526767071E-2,0.49053241556284594,0.45247272312544101,200,304.66112981245726,399.48827602147003,478.82512865221867,542.10203831157048,591.05925941370776,628.18448533821993,655.95634640416858,676.53658263916043,691.68719316757506,702.78874205301406,710.89638387813557]
[null,null,null,null,null,null,18,-0.24362348199900885,-0.21578334416042014,0.50144042760557972,0.52168387600951538,200,279.93742476232336,336.51254313118034,374.53116145215267,399.41929848727466,415.47718321223419,425.75047627051407,432.28962851624567,436.43897664856701,439.06682282583205,440.72907535337663,441.77974541085405]
[null,null,null,null,null,null,19,-0.23041993927458054,-0.19148000840392723,0.49429364841967111,0.54620099045260151,200,279.9107635932063,336.45105591406559,374.43702940306457,399.29836629302963,415.33571507400984,425.59390393864908,432.12223766719018,436.26397704621525,438.88654206843114,440.54516527317054,441.59336047460704]
[null,null,null,null,null,null,20,-0.24090404660695552,-0.32304592491071682,0.48216908922319363,0.51160112439480021,200,268.21606018790936,310.68842411716662,336.2692458679374,351.44224912167539,360.37134207618601,365.60352713611303,368.662085964575,370.44757412851959,371.48906559092615,372.09630091273766,372.45025245205494]
[null,null,null,null,null,null,21,-0.23958193771878206,-0.22990397481774932,0.50704853738475009,0.43072093632310338,200,289.78126650971802,360.12241964826302,411.7668371253435,448.37050824748854,473.78298744548835,491.20305201665929,503.04864820850901,511.06188000024468,516.46424317888034,520.09826985706809,522.53916243698995]
[null,null,null,null,null,null,22,-0.25582158735851901,-0.28394788998957993,0.48446502588426082,0.53823254223411798,200,269.67594739301239,313.77632649777206,340.71124547161162,356.89047636413636,366.5253120291286,372.2357543055117,375.61118821841615,377.60332426113223,378.77800244031016,379.4702975743055,379.87817558469038]
[null,null,null,null,null,null,23,-0.26212265427610054,-0.27958245204694893,0.50314366444336922,0.43556117558712371,200,282.7433456154962,343.05651447677639,384.63322897801993,412.48024005281729,430.83133650038695,442.80900315349822,450.58102691564545,455.60573202279863,458.84680684794296,460.93434629047579,462.27765902543524]
[null,null,null,null,null,null,24,-0.24508059864559206,-0.12107699952711745,0.50468718461945195,0.5304373935235398,200,290.98351396823739,363.13376014421237,416.67434429474741,454.98739340309311,481.82192543996655,500.36915982119427,513.08055992565562,521.74466764065187,527.62885945580024,531.61553148303744,534.31228526161522]
[null,null,null,null,null,null,25,-0.24631200722520327,-0.20447266363283476,0.49091786567308687,0.49985804060318267,200,284.11814295371755,346.31608577501947,389.72727754929588,419.1284267017096,438.70383565655902,451.60507907244795,460.05455575497837,465.56671267053144,469.15370908403344,471.48420623202401,472.99679890321784]
[null,null,null,null,null,null,26,-0.26488070562417809,-0.23170012213124921,0.49777306141212441,0.51929053031833994,200,278.25862073308269,332.66591693863052,368.67037808875989,391.91708705475833,406.72532293696014,416.08493033831894,421.97328802743357,425.66737181936344,427.98086661943148,429.42819358087866,430.33304489405759]
[null,null,null,null,null,null,27,-0.25080292428996143,-0.17618617258204811,0.49354185206906714,0.50352308596260631,200,287.28732191331164,353.96618165968687,401.84641766214725,435.11200638681805,457.7871244876373,473.06546354103813,483.28564256445304,490.09077913104909,494.60852948574558,497.60194358182264,499.58283998361662]
[null,null,null,null,null,null,28,-0.24872931116778993,-0.22669186747737269,0.50854000092062002,0.53153818187192914,200,277.36636528542783,330.64212715866233,365.60977022363318,388.02127486473739,402.20014285477305,411.10390602835821,416.67046093862314,420.14135441874055,422.30202968386629,423.64573404886994,424.48085675952302]
[null,null,null,null,null,null,29,-0.25225430224783019,-0.29272663318892067,0.48601532914978318,0.47130167505560805,200,276.65495212065412,329.03868640374628,363.19602586594908,384.95949540588992,398.6531489608339,407.20753949162349,412.52882586655141,415.83052272524901,417.87595582634685,419.1419220871187,419.92500273182708]
[null,null,null,null,null,null,30,-0.26198600667374755,-0.19394854084641508,0.49558526413945614,0.49495491115813256,200,286.09754825529114,351.07171456417541,397.23398337942746,429.00110328316617,450.46516954993479,464.80841789152737,474.32761719925315,480.61781119008737,484.76273352443741,487.48911191943341,489.28032661312875]
[null,null,null,null,null,null,31,-0.26363896035709689,-0.28514886925780658,0.49418924662122937,0.50280591678154818,200,273.74936613672799,322.58237629917187,353.57648263569467,372.85073987529421,384.7070190911187,391.95569793218738,396.37166795592054,399.05628455076408,400.68631178207983,401.6752772625677,402.27502797938411]
[null,null,null,null,null,null,32,-0.25994130513292923,-0.22918430558841385,0.49427096050920039,0.58581358773187397,200,270.52279498927345,315.58388293092247,343.32809613459352,360.11512189891971,370.1803088420117,376.18497648587055,379.7570140501125,381.87842962166229,383.13711282222448,383.88349435744783,384.32594024189962]
[null,null,null,null,null,null,33,-0.24492868231096435,-0.29359428187124048,0.50389629270156899,0.52099824265291839,200,270.57071525682386,315.68652726317248,343.47706684501651,360.29902736452141,370.3890405691194,376.41073950535531,379.99419469112155,382.12314198244059,383.38673459470954,384.13628687267078,384.5807655296743]
[null,null,null,null,null,null,34,-0.23904321757530095,-0.25483148363254704,0.50679953089023211,0.51309914588518679,200,276.17776680205338,327.96819392596461,361.59004071261779,382.92754554702606,396.30377090659852,404.6306001239804,409.79279454679875,412.98518239567835,414.95645534446061,416.17258944159073,416.92243791409487]
[null,null,null,null,null,null,35,-0.25829709263052764,-0.25513113229658968,0.48820645938457663,0.49799861897447345,200,277.99451068475213,332.06538581603002,367.7605432862149,390.75739274450575,405.37687961201084,414.59946644391351,420.3908862943664,424.01759824512925,426.28486987972587,427.70079178826177,428.58446865047665]
[null,null,null,null,null,null,36,-0.26642137551639028,-0.27635713369127779,0.52185742368995247,0.58152124101644109,200,265.52901521399656,305.09683116078816,328.31662636734768,341.76840623043631,349.51079247596681,353.95158206109204,356.49381218343791,357.94761317856023,358.77848282393393,359.25317504329075,359.52432324951377]
[null,null,null,null,null,null,37,-0.2360985665638439,-0.30983255291606954,0.50938578305923854,0.48158996015662509,200,273.33223582148571,321.66757114611215,352.22632039933274,371.16317029131113,382.77375661313181,389.85002303682404,394.14787958643058,396.75292318045484,398.32999578834972,399.28405039893971,399.86095686117221]
[null,null,null,null,null,null,38,-0.24454806282292132,-0.20416314066770103,0.50077151305660395,0.45635012801095204,200,289.79595323635988,360.15903397603222,411.82628937771602,448.45043895840843,473.87987470767439,491.3133226543772,503.16915843474357,511.19005924017756,516.59807928405735,520.2362317505615,522.68010757015986]
[null,null,null,null,null,null,39,-0.2302577392979247,-0.21882261551949053,0.48645247784824525,0.58562198067198501,200,271.77474061518024,318.27828148906968,347.2517406490233,364.97090597200247,375.7018134917497,382.16530008068668,386.0462958932269,388.37240407475485,389.76508470808841,390.59837736243054,391.09677924364325]
[null,null,null,null,null,null,40,-0.26896672293461743,-0.32758771764502248,0.49485756187783075,0.50679511079753148,200,268.24687076228668,310.75322761665007,336.36209880465304,351.55580720475024,360.49933564952897,365.74124845566564,368.80621782300557,370.59586453612417,371.64002224661385,372.24895152676578,372.60397143309507]
[null,null,null,null,null,null,41,-0.26387118813093524,-0.32925972288105032,0.49997534237292035,0.54138596482008516,200,264.07060786943305,302.11112179292684,324.11802940773669,336.70271277458164,343.85772582707762,347.9132614133843,350.20814853481284,351.50554690251482,352.23864383744029,352.65276153347008,352.88665358462424]
[null,null,null,null,null,null,42,-0.24805949631519877,-0.22480517453532417,0.49879777622738669,0.49450812512543535,200,282.21594396849986,341.81542806651174,382.70455544035701,409.97400870934723,427.8735276331355,439.51287248004337,447.038328061686,451.88670940331815,455.00340260971052,457.00409437149824,458.28724647790881]
[null,null,null,null,null,null,43,-0.2401255788762543,-0.21909986634462378,0.50727457761225836,0.59906921504897759,200,270.14838047236401,314.78322607812231,342.16744333895656,358.68352116030678,368.55649257320636,374.42950903996757,377.91342503407679,379.97679797303982,381.19770323786884,381.91972178399374,382.34657137292629]
[null,null,null,null,null,null,44,-0.24557548370475876,-0.28053151757666561,0.49494390430198337,0.44380904351473871,200,281.58209345276754,340.33066189214219,380.40507146779191,406.99372511653013,424.36337121044846,435.60738898175157,442.84585765675013,447.48977964589699,450.46276829472959,452.3634782769015,453.57761563069806]
[null,null,null,null,null,null,45,-0.26345364290674922,-0.26942771521542541,0.52202472995880145,0.46592701838096362,200,280.2010936692335,337.12132515008597,375.46394722718605,400.61842580913719,416.8806328460505,427.30436354936592,433.95137525565491,438.17665432037637,440.85725241661703,442.55579039456649,443.63122615095739]
[null,null,null,null,null,null,46,-0.2549873142353124,-0.25890855112847644,0.50229943890883499,0.53584504329775895,200,272.93248555838159,320.79369814233701,350.93953845104943,369.55756549476757,380.93675755220346,387.85114223309034,392.0384229746619,394.56918268963278,396.0969580993401,397.01860261378215,397.57435939552698]
[null,null,null,null,null,null,47,-0.2689261231385085,-0.23753416006823364,0.51001626871627526,0.54331297293015313,200,274.60748047201071,324.47377943595643,356.37810128587523,376.36189332990529,388.73751334288772,396.35238115913978,401.02035974982658,403.87550706174466,405.61951415292401,406.68394606721472,407.33329089501535]
[null,null,null,null,null,null,48,-0.2563336930168722,-0.23170592181744318,0.49809778007803102,0.39020649856417322,200,294.94269311556207,373.25537994472529,433.43592818818854,477.87675895939037,509.91521521513954,532.66500890933298,548.6608982507023,559.83492615797445,567.60659099692953,572.99592937891293,576.72571708725934]
[null,null,null,null,null,null,49,-0.24222623232684587,-0.28262333722172545,0.50084694587619094,0.55677084966706747,200,267.66346077722005,309.52881385367482,334.6103748535005,349.41583399503645,358.08929680312963,363.1496082566066,366.09514959644594,367.80747869086713,368.8021628656511,369.3797220108213,369.71499597660613]
[null,null,null,null,null,null,50,-0.25355250279136637,-0.25907773493073605,0.49489118156568163,0.54302072869603002,200,272.05431056344577,318.88360035468429,348.13699557337469,366.06992254347813,376.95444660946345,383.52441961285172,387.47751749139729,389.85165199815208,391.27593829151408,392.12983789115117,392.64157632562399]
[null,null,null,null,null,null,51,-0.24726349391566349,-0.19147046615657792,0.50919963264469315,0.37835081660885317,200,302.11007183872141,392.40548466327294,466.28959831248494,524.03743186376084,567.89486555631811,600.58415043278615,624.64451300730207,642.20197251756088,654.93793863810606,664.13801812474139,670.76440865712846]
[null,null,null,null,null,null,52,-0.24022550147120472,-0.23742550570644178,0.50232416550491388,0.50858856614975101,200,278.87458612208343,334.07136193244219,370.80512313882434,394.64330985599827,409.89992795409006,419.58608420320547,425.70616957407549,429.56177743828755,431.98641038002995,433.5094606914131,434.46551074223316]
[null,null,null,null,null,null,53,-0.25428301922459334,-0.23087057679590575,0.49774581930241313,0.60977840666724692,200,267.51769742091005,309.22377454958655,334.17484086549251,348.8845445450882,357.49160265363321,362.50738874699869,365.42372899021132,367.11720420299952,368.09985638853357,368.66980651270296,369.00030364825631]
[null,null,null,null,null,null,54,-0.24692492339681033,-0.12060735728898417,0.49632545919025667,0.54045077208952819,200,289.72428678736281,359.98040818867037,411.53629755431155,448.06061215341185,473.40740110201671,490.77563120145487,502.58157831164078,510.56512125836372,515.94558985606352,519.56365122183638,521.99300209293756]
[null,null,null,null,null,null,55,-0.22884255205325202,-0.13042867938392777,0.49946303310693485,0.54243895511353302,200,288.17759494994732,356.14988862116275,405.34813341052575,439.7740528347183,463.394603973166,479.40834954912526,490.18361849244837,497.39919526438052,502.21598610128012,505.42490234410133,507.55979932638337]
[null,null,null,null,null,null,56,-0.25506374469254328,-0.20758386930284128,0.51120990201947047,0.47819830461346541,200,286.50060710398907,352.04922671471252,398.78798855302205,431.05616741995516,452.92392687943777,467.57799735126349,477.3295852062995,483.79006329111547,488.05797472511279,490.87223400284859,492.72572645486298]
[null,null,null,null,null,null,57,-0.24518468351654052,-0.2991914374498254,0.47671335628062328,0.43394259052763257,200,280.47868644993082,337.76362524516782,376.44964421381951,401.88709210459916,418.36684231112747,428.95105922200628,435.71334762182926,440.019923295372,442.75709870211756,444.49461960481437,445.59670693862404]
[null,null,null,null,null,null,58,-0.23979111240462517,-0.24224172932401594,0.50537762456653368,0.51322137993189976,200,277.70686207091001,331.41275374999799,366.77334510562821,389.50059772534325,403.91687176612538,412.99223540994467,418.67969783337435,422.23429202618718,424.45217314293285,425.83459737833186,426.69572848295411]
[null,null,null,null,null,null,59,-0.25061962370295959,-0.26206590252996975,0.49919405611520357,0.53329497713198959,200,272.85970701401652,320.63489666729453,350.7060137683095,369.26646833943323,380.60395567402611,387.48921592125942,391.65663653388384,394.17407638871686,395.69302664217173,396.60887844384536,397.16086115477106]
[null,null,null,null,null,null,60,-0.25107764058877197,-0.24210240322118357,0.50179845467754836,0.50146711776516761,200,279.17793414978672,334.7660219181962,371.86305984979117,395.9970892830641,411.47879493044991,421.32942715079957,427.56659772968641,431.50406709240713,433.98519263778121,435.54684625556547,436.5290726216798]
[null,null,null,null,null,null,61,-0.24977865464649088,-0.23671677515195047,0.52624050316187221,0.51335015791359051,200,278.372791548083,332.92590487130201,369.0647031882927,392.4201160899666,407.31059255150518,416.72998417884605,422.66069256837704,426.38424712492622,428.71798635375831,430.17908447239273,431.09323194638336]
[null,null,null,null,null,null,62,-0.2405952918299149,-0.2281089794982569,0.49453524351555578,0.55673056911855956,200,274.1249516351416,323.40864563676405,354.79870952149361,374.38094591304593,386.46220770596449,393.86923446150945,398.39398968427361,401.1520959451417,402.83116124142691,403.85254180578158,404.47355992606526]
[null,null,null,null,null,null,63,-0.2451643992833468,-0.26341716638866919,0.52249286924634752,0.44151301083389255,200,284.04165352133998,346.13380280999991,389.4413103926417,418.75411230772136,438.25957068589395,451.10780261159357,459.51822722504386,465.00216927705344,468.56906330521974,470.88538665995509,472.38806595759092]
[null,null,null,null,null,null,64,-0.24222896233444041,-0.32169344759160856,0.4967867138753535,0.50226120569315336,200,269.46740879255469,313.33305705252263,340.07139087664245,356.10370043938474,365.63496065128641,371.27487772225118,374.60337011316528,376.56475677326057,377.71952940361092,378.39905634485524,378.79880436410849]
[null,null,null,null,null,null,65,-0.23892612013785705,-0.16977103718851261,0.4941977101123009,0.51533426892220902,200,286.58812793881123,352.26189671790644,399.12658051562391,431.504444246758,453.46074439789072,468.18310537296236,477.98583414855449,484.48384395634639,488.77890340419538,491.61258929370388,493.47986832177668]
[null,null,null,null,null,null,66,-0.23418611980489243,-0.27390967510603387,0.51061342604327864,0.60096295345114181,200,263.59060221133961,301.13590874217095,322.7538436608794,335.06299748146341,342.03291411076691,345.96799783773224,348.18613945684996,349.43537224433237,350.13858280431509,350.53432176688733,350.75699384303823]
[null,null,null,null,null,null,{"$f":"G74+1","v":67},-0.24956215632263895,-0.14441724945595927,0.48756886854429399,0.43859989821461126,200,300.26986510075926,387.38452229704581,457.52974598802865,511.56187230986575,552.05227444471666,581.85909203079132,603.54264896715426,619.19045158019571,630.42036663324495,638.44888621208042,644.17332784427049]
[null,null,null,null,null,null,68,-0.24138613740388892,-0.30203345754151034,0.52011056690149571,0.53647306991618215,200,267.76665226450064,309.74497463121577,334.91921953317177,349.79276773482604,358.51349813531823,363.60553409053654,366.57190083962035,368.29768833794895,369.30096906089273,369.88396956279729,370.22266260814524]
[null,null,null,null,null,null,69,-0.24665590990973238,-0.29010864979647677,0.50135690196892846,0.54536494782601774,200,268.11971350610798,310.48588073812232,335.97913554932768,351.08753792352883,359.97161536533906,365.17348050817913,368.2120681621256,369.98460695340054,371.01779976160651,371.61976507606244,371.97039437699533]
[null,null,null,null,null,null,70,-0.24085767763372762,-0.24821118467731912,0.49792055850193462,0.44340796722983533,200,285.74757150043092,350.22545883450709,395.89168189376471,427.22911201230272,448.34800677379565,462.42620386104829,471.74773106725684,477.8934242453854,481.93421943787268,484.5863614944866,486.32508391832368]
[null,null,null,null,null,null,71,-0.25570879459593349,-0.17808349619475311,0.52430692688452984,0.61686382517376526,200,272.90926552124586,320.74302254973009,350.86500732744122,369.46465009899367,380.83052216453939,387.7356031155208,391.91653845959331,394.44304168671164,395.9679964553124,396.88778922800964,397.44233936031264]
[null,null,null,null,null,null,72,-0.24003674772695535,-0.1539043498998201,0.50863483584265456,0.56621227875714097,200,282.11450977699167,341.57732376320263,382.33522197904762,409.49475602517742,427.30854498996337,438.88380647552782,446.36265759825858,451.17777944635418,454.27105730114903,456.25543138026137,457.527301691042]
[null,null,null,null,null,null,73,-0.25344121010971071,-0.22581754809057963,0.49541893625122257,0.49118692426294852,200,282.50778802022933,342.50155992129731,383.77007694394786,411.35787205161955,429.50606241497746,441.3315532466595,448.99256313265437,453.93780668679597,457.12277720974674,459.17110780705474,460.48723618562656]
[null,null,null,null,null,null,74,-0.26860790368165316,-0.26427267750267869,0.49169461092883321,0.45566478808210037,200,282.13712732277111,341.63039916754786,382.41753033851859,409.60154164235121,427.4344153729661,439.02393872104153,446.51315898291659,451.33567892831047,454.43416390136747,456.42216583289331,457.69654378239045]
[null,null,null,null,null,null,75,-0.24893700474135047,-0.19675146785353098,0.48146706014827867,0.36762856566585705,200,302.87378677525015,394.51086622956137,469.99393299967244,529.34969323956739,574.67935859951558,608.64077957190227,633.75907206084253,652.17327782349673,665.58997160245622,675.32336895148819,682.36316768888742]
[null,null,null,null,null,null,76,-0.26139158787662203,-0.19869545641340169,0.51103360413095333,0.54385236413512594,200,279.30487089427442,335.05719758939972,372.30706115864052,396.56578815733985,412.14252984520942,422.06271544686234,428.34947194639273,432.32165911518553,434.82677658674493,436.40484704518286,437.39822045279175]
[null,null,null,null,null,null,77,-0.25515525826457047,-0.31815076881098131,0.50157279555156786,0.60464257670226695,200,258.24601340829156,290.52280842314963,308.13543910564113,317.68356724319176,322.84357594139954,325.62771918823944,327.12868909313806,327.93752664396584,328.37328790381895,328.60802474165638,328.73446474721811]
[null,null,null,null,null,null,78,-0.2503006287107441,-0.28859593999133637,0.48734811447208426,0.37982062255536136,200,288.75906602334248,357.58446449153365,407.65884996303066,442.86117700418424,467.11799431769771,483.62924894331445,494.78186662401242,502.27774536735524,507.29966558183321,510.65704540909064,512.8984858581789]
[null,null,null,null,null,null,79,-0.24540653166746004,-0.28067341740141966,0.49951126395391288,0.47008568853540894,200,278.28723279124665,332.73104988267221,368.76914115801355,392.04305272124168,406.87186188391865,416.24642021466957,422.14536590090529,425.84681550988694,428.16536872256393,429.61613569715507,430.52330854529953]
[null,null,null,null,null,null,80,-0.24540849545915316,-0.28857860074351838,0.49806053209860057,0.5851159816889141,200,263.72423820056974,301.40704292694329,323.13276735305465,335.51814839157203,342.53919694930084,346.5075079841618,348.74679133212169,350.00927484106774,350.72069638661492,351.12147799296855,351.34722443173007]
[null,null,null,null,null,null,81,-0.25182157621991036,-0.31586551640575872,0.49687036170243765,0.46536611726906502,200,274.56095106228952,324.37089396077755,356.22535307110189,376.17013320534807,388.51710568274427,396.11171324056829,400.76570898570907,403.61136808644278,405.34901619179846,406.40922649837125,407.05578962270351]
[null,null,null,null,null,null,82,-0.24787738901758458,-0.23409172765521627,0.50592595320067379,0.55307020897783898,200,273.84487831206565,322.7922665700051,353.88670863904889,373.2389084412884,385.15206117225875,392.44072687518894,396.88414043286821,399.58727845725309,401.22965284481967,402.22677231567275,402.83186780092956]
[null,null,null,null,null,null,83,-0.25091180926340984,-0.11964105280333565,0.50259384050394973,0.49641690632441454,200,295.73537848197208,375.32024761612968,436.90620167291036,482.67159622196863,515.85574384627989,539.54613620859584,556.28836169356941,568.04086782190052,576.25346015017089,581.97475519974148,585.95212739159172]
[null,null,null,null,null,null,84,-0.2422697669097045,-0.28087673296914611,0.48389351971585426,0.48158355809703612,200,276.84705688029442,329.47078200222825,363.84551203383842,385.78242997064046,399.60568228779994,408.25320968897313,413.6397615136957,416.98640203092435,419.06239414359561,420.34893930408617,421.14577327778568]
[null,null,null,null,null,null,85,-0.24129807231007142,-0.35531379667372232,0.49489407397357604,0.59961732509136578,200,254.7598653810623,283.8369793643663,299.13949522671845,307.16326740783268,311.36326639392797,313.55986955854547,314.70820046113352,315.30838696940066,315.62204432980258,315.78595180326045,315.8716020227414]
[null,null,null,null,null,null,86,-0.24385499431945903,-0.24722960589298917,0.51785402215930842,0.53587905558522753,200,274.3339850768748,323.86956884112203,355.48164111611783,375.23701596662897,387.44505566874318,394.94150634934465,399.52782352424742,402.32760163023369,404.03452862463075,405.07436232254406,405.70751101912481]
[null,null,null,null,null,null,87,-0.22081367068443364,-0.20042609235910275,0.50024736076682119,0.45616253839382376,200,290.31296789487158,361.45067480617581,413.92700084611459,451.27836500767535,477.31120860849626,495.22181338198038,507.44336250530313,515.73862250621733,521.3493403329802,525.1355582057065,527.68665875982379]
[null,null,null,null,null,null,88,-0.24656032763625413,-0.27946058176529731,0.50760159356637047,0.55608107282717445,200,268.11178289838995,310.46921557850044,335.95527228261125,351.05836695511778,359.93874746156837,365.13812356848297,368.17507238101382,369.94654894879858,370.97906128443213,371.58059463157826,371.93095172037386]
[null,null,null,null,null,null,89,-0.25036937311365259,-0.30105092314091358,0.51043740545989325,0.5373503245505532,200,267.77889537749297,309.77063259607712,334.95589056941583,349.837533722263,358.56388636115105,363.6596974850703,366.62854350270129,368.35593390695681,369.36023891513264,369.943888029569,370.28298880081371]
[null,null,null,null,null,null,90,-0.2509087537744315,-0.27672629326308573,0.48933171721147195,0.45070890161966787,200,281.19301064817932,339.42292356764199,379.00345911020531,405.18130647392707,422.2325064940751,433.23981400088087,440.30703866687861,444.82936569233101,447.71716707426066,449.55879631933936,450.73227967365563]
[null,null,null,null,null,null,91,-0.25805462518467875,-0.19198490231095966,0.49948159030829636,0.57930776166546116,200,275.76768284104548,327.05144389572041,360.21818995422325,381.19512673888096,394.3036093423525,402.43912376699018,407.46798161597144,410.56903118304353,412.47851809144487,413.65325525836204,414.37557638511453]
[null,null,null,null,null,null,92,-0.2432680064263664,-0.26617812607776242,0.50738831089682779,0.33845863490737749,200,297.29108135134265,379.4105618095158,443.83170983410423,492.29774109282465,527.83969520342043,553.48214169305675,571.78529031463336,584.75646443775531,593.90438866587613,600.33456051462076,604.8440717873284]
[null,null,null,null,null,null,93,-0.25338109284982197,-0.36423010718818066,0.51320985109909667,0.51886639594507478,200,262.66073044400389,299.25716762274374,320.13570932184001,331.92460078826457,338.54711954212706,342.25742085617571,344.33313359190379,345.49346306377106,346.14180680457991,346.50398625055249,346.70628050245011]
[null,null,null,null,null,null,94,-0.24551930612318565,-0.22992389294277046,0.51163863682337996,0.44967293490857274,200,287.3019179737168,354.00185993425066,401.90347852963674,435.18781793923438,457.87816139643695,473.16830646503286,483.3973707750614,490.20905903521066,494.73157010545975,497.72840605364922,499.71174149161345]
[null,null,null,null,null,null,95,-0.24184325945887566,-0.33119998053398891,0.49615882768871006,0.5380554019758258,200,264.22879664743084,302.43331730130723,324.56951285930273,337.24605436150136,344.46294478844459,348.5588510006578,350.8795243473179,352.19314590090534,352.93633369454676,353.35667184647173,353.59437060319783]
[null,null,null,null,null,null,96,-0.24874572575810944,-0.16781003074028961,0.51002835346831255,0.49490506015771163,200,289.50651007415536,359.43822877496871,410.65686902403013,446.87924482041581,471.97636173483647,489.14777380996986,500.80330731548452,508.6743181895352,513.97186599618465,517.52951049608237,519.91521864859521]
[null,null,null,null,null,null,97,-0.25052017946564864,-0.13786675310035917,0.49465803351077864,0.52257590995572212,200,289.80524209435146,360.18219349443029,411.86389723696129,448.50100383927156,473.94116925609285,491.38308657728606,503.24540276697098,511.2711574838861,516.68275815645688,520.32352230691481,522.76928668937217]
[null,null,null,null,null,null,98,-0.2398628975454917,-0.22661565583254345,0.50302255091804615,0.50943689621128418,200,280.11395311821275,336.9199872994385,375.1552954610811,400.22148879440726,416.41592115119249,426.78971912622467,433.40090898731739,437.60095562469104,440.26401400474981,441.95048060880742,443.01767285510113]
[null,null,null,null,null,null,99,-0.25186955142521794,-0.23544109580454253,0.49763415217616941,0.57732021537135247,200,270.78735819209248,316.15105612883906,344.15174820301706,361.13237758064139,371.33527071896299,377.43448586789538,381.06995762449526,383.23325049583292,384.51925151525063,385.28328965745879,385.73706381539557]
[null,null,null,null,null,null,100,-0.24002605220824824,-0.25647353351734969,0.49803666631134175,0.43481156720700936,200,285.79058570537239,350.32934264315821,396.05630708991634,427.44628098434464,448.60733346986268,462.71786724630186,472.06348608405222,478.22677338268517,482.28023493831273,484.94139903370649,486.68649513023354]

{"sheet":"forecast-scenarios","index":6,"n_rows":16,"n_cols":17,"rows_kept":16,"cut":false,"hidden":false,"merged":[]}
[null,null,null,null,null,null,"grid"]
[null,null,null,null,null,null,{"$f":"min","v":200},{"$f":"G2 + width","v":251.08963838781355},{"$f":"H2 + width","v":302.1792767756271},{"$f":"I2 + width","v":353.26891516344068},{"$f":"J2 + width","v":404.35855355125426},{"$f":"K2 + width","v":455.44819193906784},{"$f":"L2 + width","v":506.53783032688142},{"$f":"M2 + width","v":557.62746871469494},{"$f":"N2 + width","v":608.71710710250852},{"$f":"O2 + width","v":659.8067454903221},{"$f":"P2 + width","v":710.89638387813568}]
[null,null,null,null,null,null,"midpoints"]
[null,"max",{"$f":"MAX( 'synthetic-data'!$L$9:$W$108 )","v":710.89638387813557},null,null,{"$f":"'synthetic-data'!E8","v":"Price Scenarios"},{"$f":"(G2+H2)/2","v":225.54481919390679},{"$f":"(H2+I2)/2","v":276.63445758172031},{"$f":"(I2+J2)/2","v":327.72409596953389},{"$f":"(J2+K2)/2","v":378.81373435734747},{"$f":"(K2+L2)/2","v":429.90337274516105},{"$f":"(L2+M2)/2","v":480.99301113297463},{"$f":"(M2+N2)/2","v":532.08264952078821},{"$f":"(N2+O2)/2","v":583.17228790860167},{"$f":"(O2+P2)/2","v":634.26192629641537},{"$f":"(P2+Q2)/2","v":685.35156468422883},"max prob"]
[null,"min",{"$f":"MIN( 'synthetic-data'!$L$9:$W$108 )","v":200},null,{"$f":"TRANSPOSE( 'synthetic-data'!L8:W8 )","v":"Price_1"},{"$f":"'synthetic-data'!E9","v":200},{"$f":"COUNTIFS( INDIRECT($E5), \">=\"&G$2, INDIRECT($E5), \"<\"&H$2 ) / 100","v":1},{"$f":"COUNTIFS( INDIRECT($E5), \">=\"&H$2, INDIRECT($E5), \"<\"&I$2 ) / 100","v":0},0,0,0,0,0,0,0,0,{"$f":"INDEX( G$4:P$4, , MATCH( MAX(G5:P5), G5:P5, 0))","v":225.54481919390679}]
[null,"grid",10,null,"Price_2",{"$f":"'synthetic-data'!E10","v":279.9107635932063},{"$f":"COUNTIFS( INDIRECT($E6), \">=\"&G$2, INDIRECT($E6), \"<\"&H$2 ) / 100","v":0},0.98,0.02,0,0,0,0,0,0,0,{"$f":"INDEX( G$4:P$4, , MATCH( MAX(G6:P6), G6:P6, 0))","v":276.63445758172031}]
[null,"width",{"$f":"( C4 - C5 ) / C6","v":51.089638387813558},null,"Price_3",{"$f":"'synthetic-data'!E11","v":352.26189671790644},{"$f":"COUNTIFS( INDIRECT($E7), \">=\"&G$2, INDIRECT($E7), \"<\"&H$2 ) / 100","v":0},0.06,0.74,0.2,0,0,0,0,0,0,{"$f":"INDEX( G$4:P$4, , MATCH( MAX(G7:P7), G7:P7, 0))","v":327.72409596953389}]
[null,null,null,null,"Price_4",{"$f":"'synthetic-data'!E12","v":478.82512865221867},{"$f":"COUNTIFS( INDIRECT($E8), \">=\"&G$2, INDIRECT($E8), \"<\"&H$2 ) / 100","v":0},0.01,0.31,0.5,0.14000000000000001,0.04,0,0,0,0,{"$f":"INDEX( G$4:P$4, , MATCH( MAX(G8:P8), G8:P8, 0))","v":378.81373435734747}]
[null,null,null,null,"Price_5",{"$f":"'synthetic-data'!E13","v":336.70271277458164},{"$f":"COUNTIFS( INDIRECT($E9), \">=\"&G$2, INDIRECT($E9), \"<\"&H$2 ) / 100","v":0},0,0.17,0.43,0.32,0.04,0.04,0,0,0,{"$f":"INDEX( G$4:P$4, , MATCH( MAX(G9:P9), G9:P9, 0))","v":378.81373435734747}]
[null,null,null,null,"Price_6",{"$f":"'synthetic-data'!E14","v":453.46074439789072},{"$f":"COUNTIFS( INDIRECT($E10), \">=\"&G$2, INDIRECT($E10), \"<\"&H$2 ) / 100","v":0},0,0.08,0.37,0.35,0.13,0.04,0.03,0,0,{"$f":"INDEX( G$4:P$4, , MATCH( MAX(G10:P10), G10:P10, 0))","v":378.81373435734747}]
[null,null,null,null,"Price_7",{"$f":"'synthetic-data'!E15","v":553.48214169305675},{"$f":"COUNTIFS( INDIRECT($E11), \">=\"&G$2, INDIRECT($E11), \"<\"&H$2 ) / 100","v":0},0,7.0000000000000007E-2,0.33,0.33,0.19,0.04,0.03,0.01,0,{"$f":"INDEX( G$4:P$4, , MATCH( MAX(G11:P11), G11:P11, 0))","v":378.81373435734747}]
[null,null,null,null,"Price_8",{"$f":"'synthetic-data'!E16","v":502.58157831164078},{"$f":"COUNTIFS( INDIRECT($E12), \">=\"&G$2, INDIRECT($E12), \"<\"&H$2 ) / 100","v":0},0,7.0000000000000007E-2,0.32,0.32,0.19,0.05,0.02,0.03,0,{"$f":"INDEX( G$4:P$4, , MATCH( MAX(G12:P12), G12:P12, 0))","v":378.81373435734747}]
[null,null,null,null,"Price_9",{"$f":"'synthetic-data'!E17","v":521.74466764065187},{"$f":"COUNTIFS( INDIRECT($E13), \">=\"&G$2, INDIRECT($E13), \"<\"&H$2 ) / 100","v":0},0,7.0000000000000007E-2,0.32,0.28999999999999998,0.16,0.09,0.03,0.03,0.01,{"$f":"INDEX( G$4:P$4, , MATCH( MAX(G13:P13), G13:P13, 0))","v":378.81373435734747}]
[null,null,null,null,"Price_10",{"$f":"'synthetic-data'!E18","v":516.46424317888034},{"$f":"COUNTIFS( INDIRECT($E14), \">=\"&G$2, INDIRECT($E14), \"<\"&H$2 ) / 100","v":0},0,7.0000000000000007E-2,0.3,0.3,0.16,0.1,0.03,0.02,0.02,{"$f":"INDEX( G$4:P$4, , MATCH( MAX(G14:P14), G14:P14, 0))","v":378.81373435734747}]
[null,null,null,null,"Price_11",{"$f":"'synthetic-data'!E19","v":433.5094606914131},{"$f":"COUNTIFS( INDIRECT($E15), \">=\"&G$2, INDIRECT($E15), \"<\"&H$2 ) / 100","v":0},0,0.06,0.28999999999999998,0.28000000000000003,0.2,0.1,0.03,0.01,0.03,{"$f":"INDEX( G$4:P$4, , MATCH( MAX(G15:P15), G15:P15, 0))","v":378.81373435734747}]
[null,null,null,null,"Price_12",{"$f":"'synthetic-data'!E20","v":585.95212739159172},{"$f":"COUNTIFS( INDIRECT($E16), \">=\"&G$2, INDIRECT($E16), \"<\"&H$2 ) / 100","v":0},0,0.06,0.28000000000000003,0.28000000000000003,0.2,0.11,0.03,0.01,0.02,{"$f":"INDEX( G$4:P$4, , MATCH( MAX(G16:P16), G16:P16, 0))","v":378.81373435734747}]

{"sheet":"adjust-1","index":7,"n_rows":102,"n_cols":18,"rows_kept":102,"cut":false,"hidden":false,"merged":[]}
[]
[null,"run","mean_demand_elasticity","Demand elasticity","mean_supply_elasticity","Supply elasticity","Price_1","Price_2","Price_3","Price_4","Price_5","Price_6","Price_7","Price_8","Price_9","Price_10","Price_11","Price_12"]
[null,1,-0.26058013353531301,-0.30740211633436754,0.50293671780171201,0.38421469588681606,300,420.97608816801494,467.33870460625786,482.64124050686161,487.46061855038755,488.95651998324286,489.4187562902988,489.5613903333047,489.60538465973599,489.61895256794259,489.62313675857968,489.62442709984049]
[null,2,-0.24766974476843961,-0.10103345945418163,0.49436489105701603,0.55540152686953304,300,437.56585519834823,498.1513915648402,520.84705839742708,528.8808106051107,531.6694307620329,532.63089276113044,532.96161859903134,533.07529181625102,533.11435155216475,533.12777177141049,533.13238256719046]
[null,3,-0.24273532820245522,-0.11996004444070724,0.49833442949320661,0.67074112448592915,300,377.55669486197621,396.17124440652009,400.18191413812195,401.02646729797755,401.20345672430091,401.24051028854291,401.24826598929286,401.2498892673658,401.25022901839992,401.2503001279307,401.25031501107389]
[null,4,-0.23084771664071907,-0.17384416809040321,0.49512222828575264,0.50638572356733025,300,426.27549760198178,476.95500728959746,494.39953139388228,500.11130066639697,501.95164161953232,502.54155546763371,502.73033853608632,502.79072068149702,502.81003061697606,502.81620551362249,502.81818007699377]
[null,5,-0.22791627018357863,-0.33564927854263304,0.50018085852203165,0.4331363330365795,300,386.75733038934561,410.15262998048416,415.76035419002562,417.06781576188166,417.37070445772747,417.44076798610632,417.45696935599591,417.46071543532645,417.4615815875527,417.46178185466567,417.46182815931741]
[null,6,-0.24826175124298969,-0.1462450830047268,0.49326073569306833,0.43414272197370107,300,475.6934283182344,577.21284566082102,626.01843083977144,647.70749791360618,657.03082651401621,660.98286975023234,662.6482672667006,663.34833754522583,663.64231581304193,663.76571147997493,663.81749664005031]
[null,7,-0.24379315363867107,-0.18436541330461492,0.50798082016285873,0.42021205298715769,300,463.2183445402689,550.03198245627755,588.69091154856949,604.71682737971207,611.17354610337065,613.74565735523129,614.765712003207,615.16953217047228,615.32928493636336,615.39246622483415,615.41745131977552]
[null,8,-0.25047955047787751,-0.11976173589929837,0.5139441321503404,0.46411221519414964,300,473.87504349383562,573.16884729758408,620.38657002239404,641.1633985353684,650.012877650051,653.73126876016875,655.28484856420062,655.93242092621142,656.20208117562333,656.31432649131182,656.36104034797279]
[null,9,-0.25580654102242129,-0.24387323841857481,0.48353452850559642,0.39490311065766265,300,446.1375071595487,514.90217080853131,542.26685212288851,552.50520776752842,556.25087947652469,557.61013877670871,558.10195155960776,558.2797125946114,558.34393800359635,558.36713955677646,558.37552074355381]
[null,10,-0.23163766722827567,-0.2028426587537564,0.50229103549679011,0.45657457718475142,300,436.13458833784722,495.41024437249177,517.38561473776906,525.09044904918721,527.74069140370682,528.64636856841116,528.95518129040988,529.06039875793647,529.096238791612,529.10844584360268,529.11260341940488]
[null,11,-0.2350632004078185,-0.26772992287243247,0.50853584732294155,0.5477306976642462,300,367.42517948166153,381.43204433669035,384.07462881901688,384.56428697258457,384.65471639132022,384.67140650411324,384.67448656632121,384.67505496178541,384.67515985322331,384.67517920982738,384.67518278188317]
[null,12,-0.25454783143061488,-0.29899017371390491,0.48359298231323999,0.4996394004251869,300,374.28236496063158,391.3331646108827,394.85953247675565,395.57347320752024,395.71739582506609,395.74638391717332,395.75222151848101,395.7533970491582,395.75363376669355,395.75368143462163,395.75369103353324]
[null,13,-0.25361780092681957,-0.24732563891705997,0.4899308413546466,0.43308827681108381,300,426.18932572455287,476.79695606830791,494.20506667913116,499.90138220101466,501.73565382978353,502.32327952137109,502.5112215949332,502.57130009227478,502.59050185851316,502.59663863049155,502.59859987321829]
[null,14,-0.23245497165444629,-0.39507212000781822,0.49877196286163705,0.41064169178008691,300,371.38069499080012,387.10544424118973,390.23692849632408,390.84826521921423,390.96715056405202,390.99025253954807,390.9947410926768,390.99561316253283,390.99578259388676,390.99581551206717,390.99582190761532]
[null,15,-0.23788775466193296,-0.29720156674931048,0.48370130282565965,0.60190327072278338,300,335.16640507988649,338.93584124670656,339.31850561897761,339.3571385890196,339.36103671308661,339.36143001743466,339.36146969996611,339.36147370374186,339.36147410770343,339.36147414846124,339.36147415257352]
[null,16,-0.24385213020291216,-0.27729863042967606,0.50188713036649868,0.43976791749994698,300,409.36887398905566,447.00153381324395,458.26366994842516,461.50129625509066,462.42147347108391,462.68215521666599,462.75593747038857,462.77681507345568,462.78272221670994,462.78439355882767,462.78486643851812]
[null,17,-0.2247225317350505,-0.27645622811237047,0.50711880615658222,0.48086950778695464,300,391.65737073728047,417.83455728786475,424.44657137193792,426.06685106354996,426.46098297509354,426.55668360774541,426.57991092634728,426.58554778950315,426.58691572235239,426.58724768511138,426.58732824396844]
[null,18,-0.24395747766312775,-0.32318464864867502,0.48543074015277743,0.5883599523212576,300,330.61701894673718,333.47123123096145,333.72488480346755,333.7473311174295,333.74931668776486,333.74949232274986,333.74950785861688,333.74950923284825,333.74950935440637,333.74950936515881,333.74950936610998]
[null,19,-0.23993563232628135,-0.23038794250686695,0.49371408219341412,0.42602344002771847,300,437.57720204628419,498.17318630309813,520.87462938507156,528.911031906885,531.70077204628205,532.66268750153449,532.99359222532871,533.10733476462565,533.14642100890842,533.15985125899999,533.16446581815103]
[null,20,-0.25089304641638283,-0.21452839109038366,0.48551592568244756,0.72050859647957644,300,322.19328789572364,323.69055889673638,323.78806647187616,323.79440187365202,323.79481344472435,323.79484018163919,323.79484191854965,323.79484203138463,323.79484203871482,323.794842039191,323.79484203922192]
[null,21,-0.23825696171950847,-0.24921285126481468,0.49526682058210164,0.66663356005746766,300,329.05820213774274,331.62831973553443,331.84551790785957,331.8638024014632,331.86534115317454,331.86547064497859,331.86548154218087,331.86548245921955,331.86548253639177,331.86548254288607,331.86548254343245]
[null,22,-0.24911031391795579,-0.2663691801557847,0.48664070634897827,0.50303721744089946,300,386.49365059817364,409.74392894074555,415.30075911792443,416.59278399964029,416.89128652703084,416.9601496416031,416.97603064911829,416.97969279367106,416.98053726533948,416.98073199534639,416.98077689885298]
[null,23,-0.26713207389618565,-0.27492461839048676,0.50192299480287539,0.48528607522747558,300,390.41799738625701,415.87592728158353,422.2232562174508,423.75962261161635,424.1288570673733,424.21744335338906,424.23868814763995,424.24378258026383,424.2450041798225,424.24529710685613,424.2453673476565]
[null,24,-0.2453982213467224,-0.18872957508682042,0.50908952914214933,0.44655118707625718,300,447.85410068398846,518.3263444195652,546.7021972739243,557.4336365503998,561.39980755946351,562.85335886042742,563.38443308368574,563.57825075066921,563.64895637534858,563.67474628446075,563.68415265412534]
[null,25,-0.26382361746505045,-0.14787087338269331,0.49306253317002957,0.49413600019814841,300,444.55692971357206,511.76997740666485,538.22660429451162,548.02675053722942,551.57834303773689,552.85537583030919,553.3132631224704,553.47727579178422,553.53600301680444,553.55702847434304,553.56455563774773]
[null,26,-0.26391602085682331,-0.26924859787200006,0.51612014121136696,0.4142886569121762,300,424.72943193844435,474.12779451254409,490.92706250089759,496.36640858827366,498.10028130693183,498.6502480581795,498.82441850455871,498.87954963340638,498.89699785100657,498.9025196889645,498.90426715769422]
[null,27,-0.23037878545836313,-0.20836976984770406,0.50152880789853005,0.41136660552109949,300,455.56789683812542,534.0046616488836,567.25740234069076,580.43879928944136,585.53120493568656,587.47936521520444,588.22187958323923,588.50447700661653,588.6119741532965,588.6528565607457,588.66840339835426]
[null,28,-0.23750083586307072,-0.27429803796194607,0.50265698733183883,0.42720571883873759,300,416.42822405522702,459.25264266797103,472.8693761332122,477.01162687510595,478.2550908463661,478.62688797206687,478.7379240218433,478.77107285735838,478.78096810504286,478.78392183893669,478.78480352093879]
[null,29,-0.24774786284572109,-0.19236395362705938,0.48680101282100569,0.41215241700958805,300,463.24943700167279,550.09810379765599,588.78022033142906,604.81860943584979,611.28143191257288,613.85638801914911,614.87773157269294,615.28212499250947,615.44212935112046,615.50541993684521,615.53045212338782]
[null,30,-0.25331307673289299,-0.30454098452101336,0.49447881107035252,0.39164655867566622,300,418.86747166636076,463.57060078376469,478.07447682682511,482.57016684506993,483.94436840532859,484.36264249841025,484.4897909645793,484.52842686268417,484.54016554001919,484.54373195274565,484.54481547855727]
[null,31,-0.25457662469139936,-0.35015851532212605,0.49933775801212471,0.52427748490571102,300,344.37412112617454,350.39100867701643,351.15390441735161,351.24981396043796,351.2618585972437,351.26337099920266,351.26356090290204,351.2635847479774,351.26358774206051,351.26358811800952,351.26358816521525]
[null,32,-0.25065195287798964,-0.26159783950715482,0.51746795074292407,0.34782846923482236,300,460.75734208799872,544.82379383060731,581.67915956642696,596.74187368300954,602.73034499025573,605.08557090798649,606.00795745410028,606.36859908935378,606.50951449981062,606.56456124438739,606.58606241131099]
[null,33,-0.2478711389107062,-0.35218792337645516,0.47619122633998623,0.57449578881379393,300,325.16366799624609,327.08955304715113,327.23119977525624,327.24158720070369,327.24234878115078,327.24240461747178,327.24240871118383,327.24240901131969,327.24240903332458,327.24240903493785,327.24240903505614]
[null,34,-0.24948440610378447,-0.39606141722377075,0.50568276054201722,0.48622611975412572,300,341.41639534390669,346.6534060540348,347.27512832941778,347.34838610445638,347.35701047414324,347.35802568402772,347.35814518707883,347.35815925408014,347.35816090994138,347.35816110485695,347.35816112780105]
[null,35,-0.26563759300188255,-7.8759692804605791E-2,0.51552091979315828,0.28187525852310702,300,605.58611493162755,948.89289070379937,1264.5027342863514,1519.323460014293,1708.5477482902927,1841.7045182427225,1932.2293378733214,1992.4260903307786,2031.8929857145474,2057.5354817223088,2074.0997367418131]
[null,36,-0.26667242053667017,-0.20592265194653125,0.48101408031598097,0.44975923036037813,300,437.92803357268241,498.84754732233819,521.72809977412919,529.84678182279094,532.67133108459814,533.64735533514488,533.98383190076049,534.09973597236319,534.13964966624314,534.15339336450336,534.15812565066165]
[null,37,-0.23664821787846285,-0.20347570919943533,0.48945748683163309,0.4803735745312685,300,424.58386013630127,473.86251934138079,490.6019069854292,496.0161260875351,497.74023538311474,498.28655960489453,498.45940512559838,498.51406283381954,498.53134415432447,498.53680778081582,498.53853512270223]
[null,38,-0.23882547531343443,-0.24519247529549373,0.51304475449785314,0.49594696248102793,300,398.68429750140712,429.14143514675555,437.39776813300222,439.56076652027912,440.12242218153477,440.26792957729714,440.30560354102028,440.31535636970546,440.31788102762022,440.31853456434612,440.31870373938841]
[null,39,-0.26106147837851879,-0.21356572717664069,0.49866335646183202,0.51566425671514826,300,403.93490621755836,437.81657386795985,447.47003045850039,450.12032202147356,450.84063823641543,451.03587650732658,451.08875572158195,451.10307489383484,451.1069521745365,451.10800203162802,451.10828630187001]
[null,40,-0.25441755477351286,-0.27419727635847402,0.50225569443269369,0.65448273790915512,300,324.45131283839595,326.26946613172089,326.39952536029887,326.40880316302486,326.40946486585767,326.40951205854554,326.40951542432765,326.40951566437514,326.40951568149541,326.40951568271635,326.40951568280349]
[null,41,-0.27033550417107938,-0.19337742203763764,0.48876235594496681,0.58899527365790016,300,381.02710164172851,401.37758355978451,405.94845412709549,406.95007670634527,407.16838436025978,407.21590958084812,407.22625310144298,407.2285041687573,407.22899406411733,407.2291006788019,407.22912388107221]
[null,42,-0.25182825665585035,-0.32665894581147753,0.48531507591664985,0.62972236503771351,300,314.72602629489381,315.38455739920602,315.41331300388896,315.41456734534364,315.41462205818721,315.41462444468993,315.41462454878609,315.41462455332652,315.41462455352473,315.41462455353343,315.41462455353371]
[null,43,-0.25812464411787056,-0.33834256961421666,0.49228144902725068,0.41066603308138072,300,395.25246320378449,423.57628873089209,430.99844500060755,432.88167165609099,433.35563579082731,433.4746781603684,433.50456190452024,433.51206279065292,433.51394546891999,433.51441800625241,433.5145366091387]
[null,44,-0.25754811339279454,-0.19503448229518708,0.51221647185909935,0.41139761505319983,300,462.27548855168459,548.03070797136229,585.99127181875087,601.64257736168599,607.91645425634158,610.40355435536344,611.38518518246769,611.77195633714769,611.92424413895139,611.98419012499733,612.00778455139027]
[null,45,-0.24559525704894219,-0.33314646353402144,0.48114221272886143,0.37232781449535535,300,414.61569379438646,456.07242130652645,469.05488551212591,472.94853974676766,474.10147070737571,474.44157401660624,474.54178969231401,474.57130982180911,474.58000460933522,474.58256547827676,474.58331972268502]
[null,46,-0.24540412355620952,-5.9899548669040265E-2,0.50575342079265606,0.67437480741548428,300,401.70256731739312,434.10440758184325,443.14554010083896,445.57950697746446,446.22851953162643,446.40113772709617,446.44701803663577,446.45921040440612,446.46245028517751,446.46331120853546,446.46353997822843]
[null,47,-0.24540660191860678,-0.24425906345386914,0.50581120626004472,0.58042456193882974,300,363.72103927566712,376.21243105809526,378.44616351528191,378.83913756290934,378.90807437705314,378.92016142171479,378.92228051828829,378.92265203183791,378.92271716428422,378.92272858306967,378.92273058496977]
[null,48,-0.23880877899375041,-0.29139374361854881,0.49344545432289516,0.62472557059988165,300,328.95956051335088,331.51220595830739,331.72722191709886,331.74526394142561,331.74677736340527,331.74690431059258,331.74691495901197,331.74691585220859,331.7469159271306,331.74691593341521,331.7469159339422]
[null,49,-0.24851388671561064,-0.41849571681484654,0.50679248374990693,0.58357528638264211,300,299.31820704307404,299.31961743609304,299.3196145151577,299.31961452120697,299.31961452119447,299.31961452119452,299.31961452119447,299.31961452119452,299.31961452119447,299.31961452119452,299.31961452119447]
[null,50,-0.26267150368382941,-0.356488606220775,0.50392927197856385,0.35244350531236435,300,413.04363195565293,453.33357965076203,465.78277483655262,469.47015969053041,470.54891366456945,470.86336980046372,470.95493736241195,470.98159308498055,470.98935199333533,470.99161038642325,470.99226773416552]
[null,51,-0.25484489024062834,-0.29964615065066269,0.49573995739612986,0.61574669971953655,300,329.22220862907665,331.82150936234257,332.04236814372439,332.06106111920013,332.06264272685752,332.06277654251898,332.06278786428305,332.06278882218533,332.06278890323057,332.06278891008765,332.06278891066779]
[null,52,-0.24233614358323721,-0.43032248914654514,0.50837883609441459,0.50256622807642326,300,322.9545995334318,324.55656042285801,324.66435417151177,324.6715896300795,324.67207521675937,324.67210780513039,324.67210999217787,324.67211013895343,324.67211014880377,324.6721101494648,324.67211014950914]
[null,53,-0.23895647834126132,-0.24238743879353886,0.50315124330977312,0.47939367237482439,300,407.25403887468968,443.4016742640128,454.01739110699691,457.01581855168155,457.85355320916352,458.08689974525754,458.15184230312451,458.16991218644705,458.17493969603049,458.17633845396961,458.17672761560851]
[null,54,-0.26189240120408996,-0.25248665503651363,0.51080643671473869,0.51417661270535064,300,387.66015867489944,411.55561152387395,417.33998832666634,418.70135235903734,419.01964705077614,419.09395170410869,419.11129160499706,419.11533774403955,419.11628186252267,419.11650216035031,419.11655356394232]
[null,55,-0.26369282900617458,-0.26835221577551155,0.50112659892860689,0.43535390492853393,300,415.42187556734189,457.48395517361786,470.74593902888739,474.74871848348653,475.94124085988494,476.29515286400186,476.40006535560474,476.43115472236724,476.44036670107045,476.44309618818227,476.44390492151012]
[null,56,-0.25472345371788874,-0.14252931184014284,0.49728102857459755,0.65476240655411166,300,374.83288395034543,392.14159019893202,395.74646694207644,396.48123509613873,396.63034490141672,396.66057752896717,396.66670621385083,396.66794856057493,396.66820039501886,396.66825144396574,396.66826179201087]
[null,57,-0.24899561976452866,-0.20727002474130207,0.50249933051701301,0.40436148364881602,300,459.64243503249065,542.48078056367956,578.5394780290485,593.18119119965911,598.96696191366584,601.22915718620402,602.11002421644753,602.45247304846555,602.58552188778492,602.6372017861604,602.65727382525063]
[null,58,-0.24889287769269677,-0.19206739173505849,0.50711125504433441,0.38759706844488068,300,476.07160046605287,578.05744129602499,627.19811543220544,649.08086843618776,658.50535786651233,662.50754006416014,664.19705188924252,664.90849926255794,665.20777331250531,665.33360903827668,665.38650937145087]
[null,59,-0.26368000518686924,-0.2825633828686322,0.51584402798869422,0.59532812555954784,300,343.06926448305245,348.73530801263735,349.43356033803281,349.51891860120344,349.52934299835044,349.5306159270616,349.53077136278398,349.53079034281029,349.53079266043278,349.53079294343405,349.53079297799098]
[null,60,-0.2413549076945041,-0.35164475338216561,0.49103928177293937,0.55778341177406421,300,331.38664499171131,334.38666554849578,334.65972056509156,334.68446266829943,334.68670369632429,334.68690667108552,334.68692505488815,334.68692671994296,334.68692687074997,334.68692688440888,334.6869268856459]
[null,61,-0.26480459732589062,-0.15635071408177792,0.48377915489745454,0.41986827378082753,300,477.87705977852642,582.10664140963036,632.87044038976137,655.69709045664104,665.61727894684964,669.86641409131494,671.67529022602923,672.44333043712197,672.76907618655923,672.90716865095953,672.96569816618558]
[null,62,-0.25200347390985683,-0.22978110612836083,0.51450627595155818,0.4458969200237618,300,428.41252747180687,480.89253805771602,499.25729657358545,505.36272914207444,507.35884538714947,508.00792144457262,508.21860934784718,508.28695882775548,508.30912803998854,508.31631821030658,508.31865016237816]
[null,63,-0.25101415127944965,-0.17479926780832294,0.49752547709453082,0.44548579474410022,300,455.29336577469826,533.43843364779877,566.50797149135042,579.59527122181953,584.64353706435429,586.57193633200154,587.30584337643461,587.58475931649127,587.69070255941369,587.73093579480724,587.7462136767607]
[null,64,-0.25455000948798129,-0.30975902812583384,0.52962847778882283,0.45740105624276439,300,387.44862806187285,411.22639498929647,416.96904876166678,418.31763701180631,418.63226769037948,418.70556022938274,418.72262749960714,418.72660154121627,418.72752686214278,418.72774231408283,418.72779247991014]
[null,65,-0.26206350213926755,-0.29933043103650364,0.49465601247299945,0.47467165254423427,300,384.5472094633401,406.74166307711937,411.93244757929608,413.11470124227498,413.38235782588208,413.44287167630318,413.45654890758476,413.45963999603856,413.46033857879002,413.46049645719989,413.46053213739987]
[null,66,-0.24016545366021341,-0.41349642618662569,0.49430939619328329,0.41895887309215118,300,360.62878820787529,371.92362960050798,373.85032380130934,374.17410602083919,374.22838143658197,374.23747576486659,374.23899949299329,374.23925478617309,374.2392975592096,374.23930472560562,374.23930592629728]
[null,67,-0.25730802137620656,-0.35734298151791682,0.49144979014034906,0.51371321510216539,300,345.65519142743881,352.02697411881911,352.857079770376,352.96425912619407,352.97808160932027,352.97986397226515,352.9800937975773,352.9801234321381,352.9801272533312,352.98012774605041,352.98012780958345]
[null,68,-0.25714265856906288,-0.27362135915463576,0.48275619894085242,0.41018399874278311,300,424.60434996943866,473.89984830861425,490.64765531072408,496.06540574647829,497.79088660195316,498.33772230993208,498.51075380002567,498.56547793087907,498.58278265786873,498.58825444480811,498.58998460701696]
[null,69,-0.24428508105341068,-0.30133154126163991,0.51261357451275413,0.47373472335649058,300,384.09788942657138,406.05228529093432,411.16095683610382,412.31889543349405,412.57980381966451,412.63851365853174,412.6517206327851,412.65469138507018,412.65535961042485,412.65550991699911,412.65554372602588]
[null,70,-0.23284056449318502,-0.24905533242480804,0.50083599588906236,0.57990552388654537,300,362.01591674058773,373.83981766261178,375.90049867345635,376.25409161700168,376.31460315236296,376.32495396812379,376.32672439130033,376.32702720379865,376.32707899661341,376.32708785521271,376.32708937038012]
[null,71,-0.26046793299796522,-0.16420464922213934,0.50291101908501856,0.48936915271665155,300,438.94343405530208,500.80471463958594,524.20929994963171,532.56980520215166,535.49709327354969,536.51493054130765,536.86798704306489,536.99034924075863,537.03274521551566,537.04743307248179,537.05252142461472]
[null,72,-0.24627063654794459,-0.15688517497633647,0.48151898009249861,0.5442677441470567,300,416.58876083058971,459.53547842460085,473.20940590165628,477.3742436785555,478.62599280947256,479.00071101267827,479.11275137988804,479.14623940244985,479.15624765450389,479.1592386319868,479.1601324804999]
[null,73,-0.26912148224835208,-0.3058292099509442,0.49783596572915056,0.59818858260945318,300,333.36224022961142,336.75335071433659,337.08064584381219,337.11207707929151,337.1150940728046,337.115383651922,337.115411446378,337.11541411415129,337.11541437020998,337.11541439478714,337.1154143971462]
[null,74,-0.24462569128211015,-0.34139234936787083,0.50354231852069264,0.64689825343921237,300,303.88415579108135,303.92993352545489,303.93046959597427,303.9304758730425,303.93047594654314,303.93047594740381,303.93047594741392,303.93047594741398,303.93047594741398,303.93047594741398,303.93047594741398]
[null,75,-0.26108451444415959,-0.12652766442638921,0.5200092816289289,0.43594407508212774,300,485.1491639904429,598.7025061655628,656.40679007695712,683.37260417779294,695.51664342889501,700.8976466378939,703.26506084316225,704.30338457310734,704.75816251721949,704.95723305769491,705.04434972747276]
[null,76,-0.25579782433879178,-0.47838805283994923,0.50284154927225122,0.56000928584838994,300,287.60807036311451,288.07429963900273,288.05638373050226,288.05707163313826,288.0570452194774,288.05704623369155,288.05704619474858,288.05704619624379,288.05704619618643,288.05704619618859,288.05704619618859]
[null,77,-0.27583988762208783,-0.31048006050244054,0.49764789523230463,0.7273041208384784,300,287.80187481143986,288.25362540241173,288.23654349305315,288.23718890061218,288.23716451438969,288.23716543580315,288.23716540098826,288.23716540230367,288.23716540225399,288.23716540225593,288.23716540225587]
[null,78,-0.24963083886516302,-0.34878147781920826,0.49735457381611087,0.40927918681939091,300,391.34127351888895,417.3340075830867,423.87781506575175,425.47637421433876,425.86403340986647,425.95787646996467,425.98058390415838,425.98607790755619,425.98740713373223,425.98772872645287,425.98780653241846]
[null,79,-0.26969730090387312,-0.29632543229466385,0.50335128852998501,0.45221801303532672,300,395.4544997393931,423.90163225482036,431.37122608364905,433.27012393413185,433.74892803064029,433.86940969028097,433.89971085860293,433.90733061895838,433.90924667869916,433.90972848581134,433.90984963945209]
[null,80,-0.25360226737476266,-0.14509181009693001,0.49567458799661213,0.350536588174168,300,522.11679829176376,690.46692897715229,794.98895382629212,853.56740413107707,884.73084078095758,900.87787146479604,909.1334424601356,913.32597618679256,915.44790057822354,916.5200085584936,917.06122562794087]
[null,81,-0.26256951785628496,-0.21777959112481668,0.49517248418109522,0.46127328907864323,300,426.82706213314839,477.96797842169718,495.64684195732178,501.45829083486228,503.3378643992969,503.94260024458043,504.13684244469039,504.19919978863578,504.21921483351957,504.22563877294868,504.22770053515507]
[null,82,-0.25405790962104163,-0.50810508703900048,0.5094291591554907,0.51268893847441277,300,293.22431687120519,293.3636404868252,293.36074271415936,293.36080297022659,293.36080171726036,293.3608017433146,293.36080174277282,293.36080174278408,293.36080174278379,293.36080174278385,293.36080174278385]
[null,83,-0.24204850846474316,-0.23727644277466442,0.48878697404700633,0.41175370894852853,300,441.13999009227865,505.06601460011711,529.63325598194695,538.5359962795435,541.69593943700272,542.80937435337614,543.20069877069852,543.33810871407184,543.38634370124839,543.40327374253172,543.40921580160398]
[null,84,-0.23672101641913021,-0.3513015663329831,0.49714546338526272,0.62505915177879889,300,307.89317248662604,308.08225283258838,308.0867239608005,308.0868296558458,308.08683215440124,308.08683221346524,308.08683221486149,308.08683221489451,308.08683221489525,308.08683221489531,308.08683221489531]
[null,85,-0.25998913837117543,-0.22594772672333169,0.49577650996621847,0.51890476571605104,300,397.06129406686722,426.49924521250722,434.35350510468515,436.38055540838428,436.89926524250814,437.03171146255903,437.06551121416237,437.07413555510408,437.07633606144924,437.07689751693249,437.07704077101522]
[null,86,-0.26107826610075596,-0.46614743330151615,0.52122232292050574,0.62227044250048658,300,272.22951339998696,274.57766508883475,274.36923279781786,274.38765556015301,274.38602660879042,274.38617063682,274.38615790216454,274.38615902813564,274.38615892857962,274.38615893738228,274.38615893660386]
[null,87,-0.25762929409520757,-0.22341564393290378,0.49775948878235449,0.58785979473768279,300,369.11845061494597,383.84807139930558,386.69314582400312,387.2324419375862,387.33430469431153,387.35353170382911,387.35716041982221,387.3578452514692,387.35797449615717,387.35799888780917,387.35800349111315]
[null,88,-0.22052686839912927,-8.5980106674078655E-2,0.5267161236483715,0.54214311472682264,300,451.38962203247718,525.45288874605569,555.99519348815113,567.80063234353099,572.25445978971368,573.91963179101026,574.54010582348837,574.77101678111296,574.85691087516443,574.88885616833943,574.90073633388431]
[null,89,-0.24484083669285345,-0.17526166281116529,0.50067084494437242,0.64903298284473476,300,363.87650428332825,376.4296973142346,378.67967401131938,379.07639376393411,379.14614246513111,379.15839901088174,379.16055259251988,379.16093098960818,379.1609974760417,379.16100915806533,379.16101121065935]
[null,90,-0.26432417282503462,-0.21501466844280406,0.4925432185038271,0.32425868992666462,300,497.67259689661057,628.37919557626026,699.65397032721182,735.1593776950682,752.11853988092821,760.06318317643149,763.75167730448038,765.45708282067028,766.24408946496362,766.60695662438843,766.77419701149836]
[null,91,-0.25460722013303938,-0.33537473993881683,0.49071069793141259,0.48657774009957644,300,364.81401218337584,377.74323322689759,380.09284510171074,380.5127177894006,380.5875237077509,380.60084425821782,380.60321599808668,380.60363828203845,380.60371346869783,380.60372685549765,380.60372923898422]
[null,92,-0.24900134081371439,-0.13227436978680107,0.50468812605073698,0.54358833754962355,300,428.32561437824728,480.73172521220982,499.05840804052633,505.14743475985034,507.13701502778429,507.78359235426154,507.99334903565085,508.06135759126408,508.08340365419394,508.09054981063878,508.09286616801137]
[null,93,-0.24716947049400698,-0.22551764316007875,0.50472907616429441,0.49885115813058023,300,406.09791346614008,441.44731548181124,451.72070105145963,454.59416399128077,455.38938850320068,455.60882164192401,455.66932284735401,455.68600027949043,455.69059720740876,455.69186427231369,455.69221351555166]
[null,94,-0.24463992192008777,-0.16863836644513744,0.49135562383646847,0.4959604289474871,300,433.6589343841506,490.70621832677614,511.47409032719503,518.63468383234158,521.05873652389448,521.87430137778483,522.14812858850291,522.2400027372131,522.27082105747797,522.28115796649445,522.28462502404784]
[null,95,-0.25016734713865868,-0.24575963529685754,0.51255026532533465,0.56737871336045065,300,368.36377948468567,382.76894501709234,385.52253429259724,386.03926686727374,386.13590114353661,386.15396106617897,386.15733586681171,386.15796649090163,386.15808433047448,386.15810635017584,386.1581104648136]
[null,96,-0.24181509583185815,-0.24775357963408554,0.49864612471650255,0.68615639670087236,300,322.59245806207792,324.14417642873696,324.24699208839473,324.25378832655571,324.25423749511481,324.25426718069741,324.2542691426184,324.25426927228187,324.25426928085125,324.25426928141758,324.25426928145509]
[null,97,-0.24402560943983917,-0.29520976726041448,0.50805663694699588,0.43117765596550722,300,405.19831496302339,439.93322358619525,449.94555340480053,452.72453943128983,453.4878910834849,453.69697786807046,453.75420343706253,453.76986233005749,453.77414689427388,453.77531921197834,453.7756399733741]
[null,98,-0.25205902767354743,-0.2627698171510604,0.51150178474317609,0.4135198027298046,300,428.12477189849341,480.36033076847139,498.59923879019931,504.65048385543861,506.62502652844677,507.2658602738457,507.47347842922949,507.54070478555263,507.5624685628859,507.56951392346537,507.57179460076912]
[null,99,-0.26164980379850566,-0.26601452731230202,0.5130803118375189,0.40609595014223027,300,430.09492212334823,484.01671021768624,503.12950883931632,509.55926903470731,511.68535739865786,512.38440889577976,512.61382840354815,512.6890750168717,512.71374999750992,512.72184092366228,512.72449388137102]
[null,100,-0.24508910820793317,-0.42311670309178906,0.49512634392725086,0.5139592100468634,300,321.47238628346827,322.87380166348589,322.9621884740979,322.96775094253115,322.96810095898189,322.96812298346009,322.96812436933038,322.96812445653501,322.96812446202239,322.9681244623676,322.96812446238931]

{"sheet":"frozen-price","index":8,"n_rows":15,"n_cols":6,"rows_kept":15,"cut":false,"hidden":false,"merged":[]}
[]
[]
[null,"month","Price","Demand","Supply","Price Scenarios"]
[null,1,300,222.84464355741963,152.98728972915742,300]
[null,2,436.98658356246756,201.27836861615123,176.95946969930881,428.12477189849341]
[null,3,497.04006683595111,194.38514942615166,186.0018348000055,577.21284566082102]
[null,4,519.44222897895793,192.07985160204544,189.20257911768758,588.78022033142906]
[null,5,527.34157601547486,191.29691030747168,190.31099222302348,450.12032202147356]
[null,6,530.07350227155666,191.02959713893364,190.69195782669658,657.03082651401621]
[null,7,531.01205078079533,190.93816587689693,190.82256006529451,327.24240461747178]
[null,8,531.33375319942013,190.90687360032098,190.8672934931586,476.40006535560474]
[null,9,531.4439357587562,190.89616158017188,190.88261080304468,424.24378258026383]
[null,10,531.48166302107086,190.89249435969413,190.88785510737969,331.7469159271306]
[null,11,531.49457991163911,190.89123886923178,190.88965057629761,672.90716865095953]
[null,12,531.49900220003065,190.89080904242522,190.89026527547156,502.59859987321829]

{"sheet":"graphs","index":9,"n_rows":5,"n_cols":3,"rows_kept":5,"cut":false,"hidden":false,"merged":[]}
[]
[null,"title","Price Formation Scenarios - 2  month adjustment time"]
[null,"x-axis","Months"]
[null,"y-axis","Price"]
[null,"y2-axis","Demand and Supply"]